BEGIN:VCALENDAR
VERSION:2.0
PRODID:-//PRC - ECPv6.15.13//NONSGML v1.0//EN
CALSCALE:GREGORIAN
METHOD:PUBLISH
X-WR-CALNAME:PRC
X-ORIGINAL-URL:https://www.liprc.org
X-WR-CALDESC:Events for PRC
REFRESH-INTERVAL;VALUE=DURATION:PT1H
X-Robots-Tag:noindex
X-PUBLISHED-TTL:PT1H
BEGIN:VTIMEZONE
TZID:UTC
BEGIN:STANDARD
TZOFFSETFROM:+0000
TZOFFSETTO:+0000
TZNAME:UTC
DTSTART:20240101T000000
END:STANDARD
END:VTIMEZONE
BEGIN:VEVENT
DTSTART;TZID=UTC:20251022T100000
DTEND;TZID=UTC:20251022T100000
DTSTAMP:20260421T100105
CREATED:20251007T171041Z
LAST-MODIFIED:20251007T171053Z
UID:127600-1761127200-1761127200@www.liprc.org
SUMMARY:Aging Safely Coalition Meeting
DESCRIPTION:Aging Safely Coalition Monthly Meeting \nPlease email the coordinator at VCaputo@fcali.org for additional information
URL:https://www.liprc.org/event/aging-safely-coalition-meeting/2025-10-22/
CATEGORIES:Nassau,Suffolk
END:VEVENT
END:VCALENDAR