BEGIN:VCALENDAR
VERSION:2.0
PRODID:-//PRC - ECPv6.15.13//NONSGML v1.0//EN
CALSCALE:GREGORIAN
METHOD:PUBLISH
X-ORIGINAL-URL:https://www.liprc.org
X-WR-CALDESC:Events for PRC
REFRESH-INTERVAL;VALUE=DURATION:PT1H
X-Robots-Tag:noindex
X-PUBLISHED-TTL:PT1H
BEGIN:VTIMEZONE
TZID:UTC
BEGIN:STANDARD
TZOFFSETFROM:+0000
TZOFFSETTO:+0000
TZNAME:UTC
DTSTART:20230101T000000
END:STANDARD
END:VTIMEZONE
BEGIN:VEVENT
DTSTART;TZID=UTC:20240822T190000
DTEND;TZID=UTC:20240822T220000
DTSTAMP:20260425T122911
CREATED:20240805T133044Z
LAST-MODIFIED:20240815T144507Z
UID:126160-1724353200-1724364000@www.liprc.org
SUMMARY:Movie In The Park- Northport East Northport Drug & Alcohol Task Force
DESCRIPTION:Rain Date- Thursday August 29th
URL:https://www.liprc.org/event/movie-in-the-park-northport-east-northport-drug-alcohol-task-force/
LOCATION:Northport Harbor Park\, 63 Bayview Ave\, Northport\, NY\, 11768\, United States
CATEGORIES:Suffolk
END:VEVENT
END:VCALENDAR