BEGIN:VCALENDAR
VERSION:2.0
PRODID:-//PRC - ECPv6.15.13//NONSGML v1.0//EN
CALSCALE:GREGORIAN
METHOD:PUBLISH
X-ORIGINAL-URL:https://www.liprc.org
X-WR-CALDESC:Events for PRC
REFRESH-INTERVAL;VALUE=DURATION:PT1H
X-Robots-Tag:noindex
X-PUBLISHED-TTL:PT1H
BEGIN:VTIMEZONE
TZID:UTC
BEGIN:STANDARD
TZOFFSETFROM:+0000
TZOFFSETTO:+0000
TZNAME:UTC
DTSTART:20220101T000000
END:STANDARD
END:VTIMEZONE
BEGIN:VEVENT
DTSTART;TZID=UTC:20230831T140000
DTEND;TZID=UTC:20230831T150000
DTSTAMP:20260419T135517
CREATED:20230823T202530Z
LAST-MODIFIED:20230823T202530Z
UID:122422-1693490400-1693494000@www.liprc.org
SUMMARY:Saint Charles Hospital International Overdose Awareness Day
DESCRIPTION:
URL:https://www.liprc.org/event/saint-charles-hospital-international-overdose-awareness-day/
LOCATION:St. Charles Hospital\, 200 Belle Terre Rd\, Port Jefferson\, NY\, 11777\, United States
CATEGORIES:Nassau,Suffolk
END:VEVENT
BEGIN:VEVENT
DTSTART;TZID=UTC:20230831T120000
DTEND;TZID=UTC:20230831T130000
DTSTAMP:20260419T135517
CREATED:20230824T185229Z
LAST-MODIFIED:20230824T185258Z
UID:122469-1693483200-1693486800@www.liprc.org
SUMMARY:Opiate Overdose Prevention (Naloxone) Training (Smithtown)
DESCRIPTION:
URL:https://www.liprc.org/event/opiate-overdose-prevention-naloxone-training-smithtown/
CATEGORIES:Nassau,Suffolk
END:VEVENT
BEGIN:VEVENT
DTSTART;TZID=UTC:20230831T100000
DTEND;TZID=UTC:20230831T120000
DTSTAMP:20260419T135517
CREATED:20230823T201512Z
LAST-MODIFIED:20230823T201540Z
UID:122418-1693476000-1693483200@www.liprc.org
SUMMARY:Annual International Overdose Awareness Day Remembrance Ceremony (FCA and THRIVE)
DESCRIPTION:
URL:https://www.liprc.org/event/annual-international-overdose-awareness-day-remembrance-ceremony-thrive/
LOCATION:Thrive Recovery Community Center\, 1324 Motor Parkway\, Hauppauge\, NY
CATEGORIES:Nassau,Suffolk
END:VEVENT
BEGIN:VEVENT
DTSTART;TZID=UTC:20230830T190000
DTEND;TZID=UTC:20230830T190000
DTSTAMP:20260419T135517
CREATED:20230821T200227Z
LAST-MODIFIED:20230821T200227Z
UID:122346-1693422000-1693422000@www.liprc.org
SUMMARY:Lights of Hope Remembrance Ceremony (Massapequa)
DESCRIPTION:To register: https://www.surveymonkey.com/r/2023RemembranceRegistration
URL:https://www.liprc.org/event/lights-of-hope-remembrance-ceremony-massapequa/
CATEGORIES:Nassau
END:VEVENT
BEGIN:VEVENT
DTSTART;TZID=UTC:20230828T100000
DTEND;TZID=UTC:20230828T113000
DTSTAMP:20260419T135517
CREATED:20230804T151935Z
LAST-MODIFIED:20230804T151935Z
UID:121862-1693216800-1693222200@www.liprc.org
SUMMARY:Roosevelt Prevention Coalition General Meeting
DESCRIPTION:Please email Raquel Del Valle at rdelvalle@fcali.org for meeting details
URL:https://www.liprc.org/event/roosevelt-prevention-coalition-general-meeting-3/
LOCATION:Online
CATEGORIES:Nassau
END:VEVENT
BEGIN:VEVENT
DTSTART;TZID=UTC:20230827T120000
DTEND;TZID=UTC:20230827T170000
DTSTAMP:20260419T135517
CREATED:20230824T184341Z
LAST-MODIFIED:20230824T184341Z
UID:122466-1693137600-1693155600@www.liprc.org
SUMMARY:FCA's THRIVE Recovery Month Fair
DESCRIPTION:
URL:https://www.liprc.org/event/fcas-thrive-recovery-month-fair/
LOCATION:Thrive Recovery Community Center\, 1324 Motor Parkway\, Hauppauge\, NY
CATEGORIES:Nassau,Suffolk
END:VEVENT
BEGIN:VEVENT
DTSTART;TZID=UTC:20230824T190000
DTEND;TZID=UTC:20230824T203000
DTSTAMP:20260419T135517
CREATED:20230804T151702Z
LAST-MODIFIED:20230822T154455Z
UID:121858-1692903600-1692909000@www.liprc.org
SUMMARY:Oceanside SAFE General Monthly Meeting
DESCRIPTION:Email aliamato16@gmail.com for full details.
URL:https://www.liprc.org/event/oceanside-safe-general-monthly-meeting-3/
LOCATION:Online
CATEGORIES:Nassau
END:VEVENT
BEGIN:VEVENT
DTSTART;TZID=UTC:20230821T100000
DTEND;TZID=UTC:20230821T120000
DTSTAMP:20260419T135517
CREATED:20230804T152422Z
LAST-MODIFIED:20230804T152515Z
UID:121864-1692612000-1692619200@www.liprc.org
SUMMARY:Sector Capacity Building Workshop (National Guard and Levittown Community Action Coalition)
DESCRIPTION:
URL:https://www.liprc.org/event/sector-capacity-building-workshop-national-guard/
LOCATION:Online
CATEGORIES:Nassau,Suffolk
END:VEVENT
BEGIN:VEVENT
DTSTART;TZID=UTC:20230818T193000
DTEND;TZID=UTC:20230818T213000
DTSTAMP:20260419T135517
CREATED:20230804T144124Z
LAST-MODIFIED:20230804T144124Z
UID:121838-1692387000-1692394200@www.liprc.org
SUMMARY:Northport East Northport Drug and Alcohol Task Force Family Movie Night
DESCRIPTION:
URL:https://www.liprc.org/event/northport-east-northport-drug-and-alcohol-task-force-family-movie-night/
LOCATION:Northport Village Park\, 63 Bayview Ave\, Northport\, NY\, 11768\, United States
CATEGORIES:Suffolk
END:VEVENT
BEGIN:VEVENT
DTSTART;TZID=UTC:20230818T110000
DTEND;TZID=UTC:20230818T123000
DTSTAMP:20260419T135517
CREATED:20230804T151823Z
LAST-MODIFIED:20230804T151823Z
UID:121860-1692356400-1692361800@www.liprc.org
SUMMARY:Hempstead Prevention Coalition General Meeting
DESCRIPTION:Please email April McCarthy at AMcCarthy@fcali.org for details.
URL:https://www.liprc.org/event/hempstead-prevention-coalition-general-meeting-4/
LOCATION:Online
CATEGORIES:Nassau
END:VEVENT
BEGIN:VEVENT
DTSTART;TZID=UTC:20230805T110000
DTEND;TZID=UTC:20230805T140000
DTSTAMP:20260419T135517
CREATED:20230804T140419Z
LAST-MODIFIED:20230804T140419Z
UID:121807-1691233200-1691244000@www.liprc.org
SUMMARY:Deer Park Overdose Awareness Walk
DESCRIPTION:
URL:https://www.liprc.org/event/deer-park-overdose-awareness-walk/
LOCATION:Deer Park High School\, 2 Falcon Place\, Deer Park\, NY\, 11729\, United States
CATEGORIES:Suffolk
END:VEVENT
BEGIN:VEVENT
DTSTART;TZID=UTC:20230727T110000
DTEND;TZID=UTC:20230727T123000
DTSTAMP:20260419T135517
CREATED:20230804T150936Z
LAST-MODIFIED:20230804T150936Z
UID:121849-1690455600-1690461000@www.liprc.org
SUMMARY:Monthly LIPRC Coalition Drop in Hours
DESCRIPTION:Join us at this link: https://fsl-li.zoom.us/s/87668703363?pwd=V1lnaGR0aDBHSlVpRnpPSWVxQXpTQT09
URL:https://www.liprc.org/event/monthly-liprc-coalition-drop-in-hours/2023-07-27/
LOCATION:Online
CATEGORIES:Nassau,Suffolk
END:VEVENT
BEGIN:VEVENT
DTSTART;TZID=UTC:20230627T100000
DTEND;TZID=UTC:20230627T113000
DTSTAMP:20260419T135517
CREATED:20230616T150906Z
LAST-MODIFIED:20230616T150906Z
UID:120644-1687860000-1687865400@www.liprc.org
SUMMARY:Hispanic Alliance for Prevention
DESCRIPTION:Please email Yiset Abreu at yabreu@yesccc.org for additional meeting details
URL:https://www.liprc.org/event/hispanic-alliance-for-prevention-2/
END:VEVENT
BEGIN:VEVENT
DTSTART;TZID=UTC:20230626T100000
DTEND;TZID=UTC:20230626T113000
DTSTAMP:20260419T135517
CREATED:20230616T150653Z
LAST-MODIFIED:20230616T150653Z
UID:120642-1687773600-1687779000@www.liprc.org
SUMMARY:Roosevelt Prevention Coalition General Meeting
DESCRIPTION:Please email Raquel Del Valle at rdelvalle@fcali.org for meeting details
URL:https://www.liprc.org/event/roosevelt-prevention-coalition-general-meeting-2/
CATEGORIES:Nassau
END:VEVENT
BEGIN:VEVENT
DTSTART;TZID=UTC:20230623T110000
DTEND;TZID=UTC:20230623T123000
DTSTAMP:20260419T135517
CREATED:20230616T150501Z
LAST-MODIFIED:20230616T150501Z
UID:120640-1687518000-1687523400@www.liprc.org
SUMMARY:Hempstead Prevention Coalition General Meeting
DESCRIPTION:Please email April McCarthy at AMcCarthy@fcali.org for details.
URL:https://www.liprc.org/event/hempstead-prevention-coalition-general-meeting-3/
CATEGORIES:Nassau
END:VEVENT
BEGIN:VEVENT
DTSTART;TZID=UTC:20230621T190000
DTEND;TZID=UTC:20230621T203000
DTSTAMP:20260419T135517
CREATED:20230616T150232Z
LAST-MODIFIED:20230616T150232Z
UID:120637-1687374000-1687379400@www.liprc.org
SUMMARY:Northport-East Northport Drug and Alcohol Task Force General Meeting
DESCRIPTION:
URL:https://www.liprc.org/event/northport-east-northport-drug-and-alcohol-task-force-general-meeting/
LOCATION:William J Brosnan Building (Northport-East Northport Admin.)\, 158 Laurel Avenue\, Northport\, NY\, 11768\, United States
CATEGORIES:Suffolk
GEO:40.8984655;-73.3367104
X-APPLE-STRUCTURED-LOCATION;VALUE=URI;X-ADDRESS=William J Brosnan Building (Northport-East Northport Admin.) 158 Laurel Avenue Northport NY 11768 United States;X-APPLE-RADIUS=500;X-TITLE=158 Laurel Avenue:geo:-73.3367104,40.8984655
END:VEVENT
BEGIN:VEVENT
DTSTART;TZID=UTC:20230621T130000
DTEND;TZID=UTC:20230621T163000
DTSTAMP:20260419T135517
CREATED:20230616T151840Z
LAST-MODIFIED:20230616T151840Z
UID:120648-1687352400-1687365000@www.liprc.org
SUMMARY:Ethics in Prevention- FULL
DESCRIPTION:FULL \n \nJune 2023 Ethics in Prevention
URL:https://www.liprc.org/event/ethics-in-prevention-full/2023-06-21/
CATEGORIES:Nassau,Suffolk
END:VEVENT
BEGIN:VEVENT
DTSTART;TZID=UTC:20230620T190000
DTEND;TZID=UTC:20230620T203000
DTSTAMP:20260419T135517
CREATED:20230616T151204Z
LAST-MODIFIED:20230616T151204Z
UID:120646-1687287600-1687293000@www.liprc.org
SUMMARY:Oceanside SAFE General Monthly Meeting
DESCRIPTION:Email aliamato16@gmail.com for full details.
URL:https://www.liprc.org/event/oceanside-safe-general-monthly-meeting-2/
CATEGORIES:Nassau
END:VEVENT
BEGIN:VEVENT
DTSTART;TZID=UTC:20230613T140000
DTEND;TZID=UTC:20230613T153000
DTSTAMP:20260419T135517
CREATED:20230616T145942Z
LAST-MODIFIED:20230616T145942Z
UID:120635-1686664800-1686670200@www.liprc.org
SUMMARY:COMPASS Unity General Meeting
DESCRIPTION:Hybrid In person and online event.\nPlease email CRubin@southcountry.org for log in information.
URL:https://www.liprc.org/event/compass-unity-general-meeting-2/
LOCATION:South Country Central School District Business Office\, 189 Dunton Avenue\, East Patchogue\, NY\, 11772\, United States
CATEGORIES:Suffolk
GEO:40.7503899;-72.9672951
X-APPLE-STRUCTURED-LOCATION;VALUE=URI;X-ADDRESS=South Country Central School District Business Office 189 Dunton Avenue East Patchogue NY 11772 United States;X-APPLE-RADIUS=500;X-TITLE=189 Dunton Avenue:geo:-72.9672951,40.7503899
END:VEVENT
BEGIN:VEVENT
DTSTART;TZID=UTC:20230608T140000
DTEND;TZID=UTC:20230608T153000
DTSTAMP:20260419T135517
CREATED:20230616T145328Z
LAST-MODIFIED:20230616T145328Z
UID:120631-1686232800-1686238200@www.liprc.org
SUMMARY:Riverhead CAP General Meeting
DESCRIPTION:This will be a hybrid event please email isabella.marcucci@riverheadcap.org for complete details.
URL:https://www.liprc.org/event/riverhead-cap-general-meeting-2/
LOCATION:Atlantis Riverhead Aquarium Terrace Room of the Sea Star Banquet Hall\, 431 East Main Street\, Riverhead\, NY\, 11901\, United States
CATEGORIES:Suffolk
END:VEVENT
BEGIN:VEVENT
DTSTART;TZID=UTC:20230606T140000
DTEND;TZID=UTC:20230606T153000
DTSTAMP:20260419T135517
CREATED:20230616T145700Z
LAST-MODIFIED:20230616T145700Z
UID:120633-1686060000-1686065400@www.liprc.org
SUMMARY:Great South Bay Coalition Meet and Greet
DESCRIPTION:Please email Barbara Vouris at bvouris@yesnews.net  for additional details on hybrid opportunity.
URL:https://www.liprc.org/event/great-south-bay-coalition-meet-and-greet-2/
LOCATION:Sayville School District Office\, 99 Greeley Avenue\, Sayville\, NY\, 11782\, United States
CATEGORIES:Suffolk
GEO:40.737105;-73.086685
X-APPLE-STRUCTURED-LOCATION;VALUE=URI;X-ADDRESS=Sayville School District Office 99 Greeley Avenue Sayville NY 11782 United States;X-APPLE-RADIUS=500;X-TITLE=99 Greeley Avenue:geo:-73.086685,40.737105
END:VEVENT
BEGIN:VEVENT
DTSTART;TZID=UTC:20230601T180000
DTEND;TZID=UTC:20230601T193000
DTSTAMP:20260419T135517
CREATED:20230616T145133Z
LAST-MODIFIED:20230616T150548Z
UID:120629-1685642400-1685647800@www.liprc.org
SUMMARY:SAFE in Sag Harbor General Meeting
DESCRIPTION:Please email Alana Urbont Marino <alana@hugsinc.org> for full log on details
URL:https://www.liprc.org/event/safe-in-sag-harbor-general-meeting-2/
LOCATION:Online
CATEGORIES:Suffolk
END:VEVENT
BEGIN:VEVENT
DTSTART;TZID=UTC:20230523T100000
DTEND;TZID=UTC:20230523T110000
DTSTAMP:20260419T135517
CREATED:20230503T152729Z
LAST-MODIFIED:20230503T152729Z
UID:119431-1684836000-1684839600@www.liprc.org
SUMMARY:Hispanic Alliance for Prevention
DESCRIPTION:Please email Yiset Abreu at yabreu@yesccc.org for additional meeting details
URL:https://www.liprc.org/event/hispanic-alliance-for-prevention/
CATEGORIES:Nassau
END:VEVENT
BEGIN:VEVENT
DTSTART;TZID=UTC:20230522T100000
DTEND;TZID=UTC:20230522T110000
DTSTAMP:20260419T135517
CREATED:20230503T152507Z
LAST-MODIFIED:20230503T152507Z
UID:119429-1684749600-1684753200@www.liprc.org
SUMMARY:Roosevelt Prevention Coalition General Meeting
DESCRIPTION:Please email Raquel Del Valle at rdelvalle@fcali.org for meeting details
URL:https://www.liprc.org/event/roosevelt-prevention-coalition-general-meeting/
CATEGORIES:Nassau
END:VEVENT
BEGIN:VEVENT
DTSTART;TZID=UTC:20230520T080000
DTEND;TZID=UTC:20230520T140000
DTSTAMP:20260419T135517
CREATED:20230420T193008Z
LAST-MODIFIED:20230420T193008Z
UID:118628-1684569600-1684591200@www.liprc.org
SUMMARY:Rivherhead STOP day and Medication Take Back Event
DESCRIPTION:STOPNotification Riverhead 2023
URL:https://www.liprc.org/event/rivherhead-stop-day-and-medication-take-back-event/2023-05-20/
LOCATION:Riverhead Highway Yard\, 1177 Osborn Ave\, Riverhead\, NY\, United States
CATEGORIES:Suffolk
END:VEVENT
BEGIN:VEVENT
DTSTART;TZID=UTC:20230519T110000
DTEND;TZID=UTC:20230519T123000
DTSTAMP:20260419T135517
CREATED:20230503T152324Z
LAST-MODIFIED:20230503T152324Z
UID:119427-1684494000-1684499400@www.liprc.org
SUMMARY:Hempstead Prevention Coalition General Meeting
DESCRIPTION:Please email April McCarthy at AMcCarthy@fcali.org for details.
URL:https://www.liprc.org/event/hempstead-prevention-coalition-general-meeting-2/
CATEGORIES:Nassau
END:VEVENT
BEGIN:VEVENT
DTSTART;TZID=UTC:20230518T170000
DTEND;TZID=UTC:20230518T203000
DTSTAMP:20260419T135517
CREATED:20230503T142629Z
LAST-MODIFIED:20230503T142629Z
UID:119407-1684429200-1684441800@www.liprc.org
SUMMARY:Youth Mental Health First Aid (Northport East Northport)
DESCRIPTION:Please email Linda at loristano@centralnassau.org for more information
URL:https://www.liprc.org/event/youth-mental-health-first-aid-northport-east-northport/2023-05-18/
CATEGORIES:Suffolk
END:VEVENT
BEGIN:VEVENT
DTSTART;TZID=UTC:20230518T130000
DTEND;TZID=UTC:20230518T160000
DTSTAMP:20260419T135517
CREATED:20230503T152017Z
LAST-MODIFIED:20230503T152017Z
UID:119423-1684414800-1684425600@www.liprc.org
SUMMARY:Virtual Networking Event with the LIPRC
DESCRIPTION:– REGISTER HERE – \nClick for flyer
URL:https://www.liprc.org/event/virtual-networking-event-with-the-liprc/
CATEGORIES:Nassau,Suffolk
END:VEVENT
BEGIN:VEVENT
DTSTART;TZID=UTC:20230517T180000
DTEND;TZID=UTC:20230517T180000
DTSTAMP:20260419T135517
CREATED:20230503T144938Z
LAST-MODIFIED:20230503T145611Z
UID:119411-1684346400-1684346400@www.liprc.org
SUMMARY:Informational Cannabis Awareness Meeting for Parents/Guardians (Riverhead)
DESCRIPTION:Click for flyer
URL:https://www.liprc.org/event/119411/
CATEGORIES:Suffolk
END:VEVENT
BEGIN:VEVENT
DTSTART;TZID=UTC:20230516T180000
DTEND;TZID=UTC:20230516T193000
DTSTAMP:20260419T135517
CREATED:20230503T154237Z
LAST-MODIFIED:20230503T154237Z
UID:119433-1684260000-1684265400@www.liprc.org
SUMMARY:Great South Bay Coalition Meet and Greet
DESCRIPTION:Please email Barbara Vouris at bvouris@yesnews.net  for additional details
URL:https://www.liprc.org/event/great-south-bay-coalition-meet-and-greet/
CATEGORIES:Suffolk
END:VEVENT
END:VCALENDAR