BEGIN:VCALENDAR
VERSION:2.0
PRODID:-//PRC - ECPv6.15.13//NONSGML v1.0//EN
CALSCALE:GREGORIAN
METHOD:PUBLISH
X-ORIGINAL-URL:https://www.liprc.org
X-WR-CALDESC:Events for PRC
REFRESH-INTERVAL;VALUE=DURATION:PT1H
X-Robots-Tag:noindex
X-PUBLISHED-TTL:PT1H
BEGIN:VTIMEZONE
TZID:UTC
BEGIN:STANDARD
TZOFFSETFROM:+0000
TZOFFSETTO:+0000
TZNAME:UTC
DTSTART:20220101T000000
END:STANDARD
END:VTIMEZONE
BEGIN:VEVENT
DTSTART;TZID=UTC:20230419T110000
DTEND;TZID=UTC:20230419T123000
DTSTAMP:20260421T095809
CREATED:20230410T180702Z
LAST-MODIFIED:20230410T180702Z
UID:118095-1681902000-1681907400@www.liprc.org
SUMMARY:Virtual Overdose Prevention Training
DESCRIPTION:Virtual Overdose Prevention with Naloxone/Narcan Training \nWednesday\, April 19\, 2023 \nFrom 11:00 am- 12:30 pm \nThis will be a virtual training through ZOOM. \nRegistration portal opens Monday\, April 10th about 10am and will close as soon as \nthe maximum capacity of seventy is reached. \n  \nwww.nassaucountyny.gov/overdosetraining \n  \nNarcan Kits will be available for Contactless pick up \n@ 60 Charles Lindbergh Blvd\, Uniondale\, NY 11553 on \nThursday April 20th \, between 10am – 1pm \n 
URL:https://www.liprc.org/event/virtual-overdose-prevention-training/
LOCATION:Online
CATEGORIES:Nassau,Suffolk
END:VEVENT
BEGIN:VEVENT
DTSTART;TZID=UTC:20230418T140000
DTEND;TZID=UTC:20230418T153000
DTSTAMP:20260421T095809
CREATED:20230410T175533Z
LAST-MODIFIED:20230410T175533Z
UID:118084-1681826400-1681831800@www.liprc.org
SUMMARY:COMPASS Unity General Meeting
DESCRIPTION:Hybrid In person and online event.\nPlease email CRubin@southcountry.org for log in information.
URL:https://www.liprc.org/event/compass-unity-general-meeting/
LOCATION:South Country Central School District Business Office\, 189 Dunton Avenue\, East Patchogue\, NY\, 11772\, United States
CATEGORIES:Suffolk
GEO:40.7503899;-72.9672951
X-APPLE-STRUCTURED-LOCATION;VALUE=URI;X-ADDRESS=South Country Central School District Business Office 189 Dunton Avenue East Patchogue NY 11772 United States;X-APPLE-RADIUS=500;X-TITLE=189 Dunton Avenue:geo:-72.9672951,40.7503899
END:VEVENT
BEGIN:VEVENT
DTSTART;TZID=UTC:20230417T100000
DTEND;TZID=UTC:20230417T110000
DTSTAMP:20260421T095809
CREATED:20230410T175252Z
LAST-MODIFIED:20230410T175252Z
UID:118080-1681725600-1681729200@www.liprc.org
SUMMARY:Roosevelt Prevention Coalition General Monthly Meeting
DESCRIPTION:This meeting will be held online. Please email coalition coordinator Raquel Del Valle at rdelvalle@fcali.org for further information.
URL:https://www.liprc.org/event/roosevelt-prevention-coalition-general-monthly-meeting/
LOCATION:Online
CATEGORIES:Nassau
END:VEVENT
BEGIN:VEVENT
DTSTART;TZID=UTC:20230414T183000
DTEND;TZID=UTC:20230414T200000
DTSTAMP:20260421T095809
CREATED:20230410T180449Z
LAST-MODIFIED:20230410T180449Z
UID:118090-1681497000-1681502400@www.liprc.org
SUMMARY:Cannabis Awareness Informational Meeting
DESCRIPTION:
URL:https://www.liprc.org/event/cannabis-awareness-informational-meeting/
LOCATION:Suffolk County Police Academy\, 502 Wicks Rd\, Brentwood\, NY\, United States
CATEGORIES:Suffolk
END:VEVENT
BEGIN:VEVENT
DTSTART;TZID=UTC:20230413T143000
DTEND;TZID=UTC:20230413T163000
DTSTAMP:20260421T095809
CREATED:20230410T174824Z
LAST-MODIFIED:20230410T174824Z
UID:118078-1681396200-1681403400@www.liprc.org
SUMMARY:Riverhead CAP General Monthly Meeting
DESCRIPTION:Email isabella.marcucci@riverheadcap.org for complete details of this hybrid event.
URL:https://www.liprc.org/event/riverhead-cap-general-monthly-meeting/
LOCATION:Hyatt Place\, 451 East Main St\, Riverhead\, NY\, 11901
CATEGORIES:Suffolk
GEO:40.9183462;-72.6558263
X-APPLE-STRUCTURED-LOCATION;VALUE=URI;X-ADDRESS=Hyatt Place 451 East Main St Riverhead NY 11901;X-APPLE-RADIUS=500;X-TITLE=451 East Main St:geo:-72.6558263,40.9183462
END:VEVENT
BEGIN:VEVENT
DTSTART;TZID=UTC:20230406T180000
DTEND;TZID=UTC:20230406T193000
DTSTAMP:20260421T095809
CREATED:20230410T174609Z
LAST-MODIFIED:20230410T174609Z
UID:118076-1680804000-1680809400@www.liprc.org
SUMMARY:SAFE in Sag Harbor General Monthly Meeting
DESCRIPTION:Email Alana Urbont Marino <alana@hugsinc.org> for full log on details.
URL:https://www.liprc.org/event/safe-in-sag-harbor-general-monthly-meeting/
LOCATION:Online
CATEGORIES:Suffolk
END:VEVENT
BEGIN:VEVENT
DTSTART;TZID=UTC:20230328T190000
DTEND;TZID=UTC:20230328T203000
DTSTAMP:20260421T095809
CREATED:20230321T133352Z
LAST-MODIFIED:20230321T133352Z
UID:117119-1680030000-1680035400@www.liprc.org
SUMMARY:Cannabis Forum: What Every Parent Should Know - Northport
DESCRIPTION:Click for flyer
URL:https://www.liprc.org/event/cannabis-forum-what-every-parent-should-know-northport/
CATEGORIES:Suffolk
END:VEVENT
BEGIN:VEVENT
DTSTART;TZID=UTC:20230328T100000
DTEND;TZID=UTC:20230328T110000
DTSTAMP:20260421T095809
CREATED:20230303T165551Z
LAST-MODIFIED:20230303T165606Z
UID:116462-1679997600-1680001200@www.liprc.org
SUMMARY:Hispanic Alliance for Prevention General Meeting
DESCRIPTION:Hybrid meeting- for more information please email the coalition coordinator Yiset Abreu at Yabreu@yesccc.org
URL:https://www.liprc.org/event/hispanic-alliance-for-prevention-general-meeting-2/
CATEGORIES:Nassau
END:VEVENT
BEGIN:VEVENT
DTSTART;TZID=UTC:20230320T183000
DTEND;TZID=UTC:20230320T193000
DTSTAMP:20260421T095809
CREATED:20230320T143707Z
LAST-MODIFIED:20230320T143748Z
UID:117069-1679337000-1679340600@www.liprc.org
SUMMARY:Emerging Trends in Youth Gambling - Smithtown
DESCRIPTION:Link to flyer   —-   LINK TO REGISTRATION
URL:https://www.liprc.org/event/117069/
CATEGORIES:Nassau,Suffolk
END:VEVENT
BEGIN:VEVENT
DTSTART;TZID=UTC:20230320T100000
DTEND;TZID=UTC:20230320T110000
DTSTAMP:20260421T095809
CREATED:20230303T165151Z
LAST-MODIFIED:20230303T165151Z
UID:116460-1679306400-1679310000@www.liprc.org
SUMMARY:Roosevelt Prevention Coalition
DESCRIPTION:This meeting will be held in person. Please email coalition coordinator Raquel Del Valle at rdelvalle@fcali.org for further information.
URL:https://www.liprc.org/event/roosevelt-prevention-coalition-5/
CATEGORIES:Nassau
END:VEVENT
BEGIN:VEVENT
DTSTART;TZID=UTC:20230317T110000
DTEND;TZID=UTC:20230317T123000
DTSTAMP:20260421T095809
CREATED:20230303T164824Z
LAST-MODIFIED:20230303T164824Z
UID:116458-1679050800-1679056200@www.liprc.org
SUMMARY:Hempstead Prevention Coalition General Meeting
DESCRIPTION:This meeting will be held virtually. Please email April McCarthy at AMcCarthy@fcali.org for further details.
URL:https://www.liprc.org/event/hempstead-prevention-coalition-general-meeting/
CATEGORIES:Nassau
END:VEVENT
BEGIN:VEVENT
DTSTART;TZID=UTC:20230316T190000
DTEND;TZID=UTC:20230316T200000
DTSTAMP:20260421T095809
CREATED:20230303T164510Z
LAST-MODIFIED:20230303T164525Z
UID:116455-1678993200-1678996800@www.liprc.org
SUMMARY:Oceanside SAFE Coalition General Meeting
DESCRIPTION:This meeting will be held in person. Please contact Ali Ericksen at info@oceansidesafe.org for additional details.
URL:https://www.liprc.org/event/oceanside-safe-coalition-2/
CATEGORIES:Nassau
END:VEVENT
BEGIN:VEVENT
DTSTART;TZID=UTC:20230313T190000
DTEND;TZID=UTC:20230313T210000
DTSTAMP:20260421T095809
CREATED:20230321T133857Z
LAST-MODIFIED:20230321T133857Z
UID:117121-1678734000-1678741200@www.liprc.org
SUMMARY:Marijuana (THC) and Your Kids- Comsewogue
DESCRIPTION:
URL:https://www.liprc.org/event/marijuana-thc-and-your-kids-comsewogue/
CATEGORIES:Suffolk
END:VEVENT
BEGIN:VEVENT
DTSTART;TZID=UTC:20230313T190000
DTEND;TZID=UTC:20230313T190000
DTSTAMP:20260421T095809
CREATED:20230310T184430Z
LAST-MODIFIED:20230310T184437Z
UID:116663-1678734000-1678734000@www.liprc.org
SUMMARY:Rockville Centre Coalition for Youth General Meeting
DESCRIPTION:This is a virtual meeting\, please email coalition coordinator Ruthanne McCormack at ramccormack@rvccoalitionforyouth.org for additional information.
URL:https://www.liprc.org/event/rockville-centre-coalition-for-youth-general-meeting-2/
CATEGORIES:Nassau
END:VEVENT
BEGIN:VEVENT
DTSTART;VALUE=DATE:20230308
DTEND;VALUE=DATE:20230310
DTSTAMP:20260421T095809
CREATED:20230206T203234Z
LAST-MODIFIED:20230206T203234Z
UID:115847-1678233600-1678406399@www.liprc.org
SUMMARY:2023 NYCPG Annual Conference (In Person)
DESCRIPTION:Conference Dates:   \nWednesday March 8\, 2023 – Thursday March 9\, 2023   \nConference Website:   \nhttps://nyproblemgambling.org/conference/ \nCredits Available- OASAS\, SW\, MHC \nCost: $50   \nScholarships available for clients who want to attend.  Just reach out to longislandpgrc@nyproblemgambling.org 
URL:https://www.liprc.org/event/2023-nycpg-annual-conference-in-person/
LOCATION:Albany Marriot\, 189 Wolf Road\, Albany\, NY\, 12205\, United States
CATEGORIES:Nassau,Suffolk
END:VEVENT
BEGIN:VEVENT
DTSTART;TZID=UTC:20230228T100000
DTEND;TZID=UTC:20230228T113000
DTSTAMP:20260421T095809
CREATED:20230207T153138Z
LAST-MODIFIED:20230207T153138Z
UID:115867-1677578400-1677583800@www.liprc.org
SUMMARY:Hispanic Alliance for Prevention General Meeting
DESCRIPTION:Online. Please reach out to Yiset Abreu (YAbreu@yesccc.org) for log on details.
URL:https://www.liprc.org/event/hispanic-alliance-for-prevention-general-meeting/
LOCATION:Online
CATEGORIES:Nassau
END:VEVENT
BEGIN:VEVENT
DTSTART;TZID=UTC:20230227T100000
DTEND;TZID=UTC:20230227T113000
DTSTAMP:20260421T095809
CREATED:20230207T152630Z
LAST-MODIFIED:20230207T152630Z
UID:115865-1677492000-1677497400@www.liprc.org
SUMMARY:Roosevelt Prevention Coalition Monthly Meeting
DESCRIPTION:Online. Please email Raquel Del Valle <rdelvalle@fcali.org> for log on details. 
URL:https://www.liprc.org/event/roosevelt-prevention-coalition-monthly-meeting/
LOCATION:Online
CATEGORIES:Nassau
END:VEVENT
BEGIN:VEVENT
DTSTART;TZID=UTC:20230223T140000
DTEND;TZID=UTC:20230223T150000
DTSTAMP:20260421T095809
CREATED:20230207T161612Z
LAST-MODIFIED:20230207T161612Z
UID:115887-1677160800-1677164400@www.liprc.org
SUMMARY:Preventing Underage Cannabis Use: Risk/Protective Factors & Effective Communication\, Q&A session with Gisela Rots
DESCRIPTION:The PTTC Cannabis Prevention Working Group developed a two-module\, 2.5 hour webinar course on how to address youth cannabis use. The course presented new information about how perception of harm and related factors impact youth cannabis use are emerging\, the research behind those factors\, as well as evidence-informed strategies for addressing them. Now\, we are pleased to offer you a live session about the course with the developer\, Gisela Rots. Gisela will provide with a quick overview and recap of the course and be available to clarify questions you may have about the content.\nhttps://pttcnetwork.org/centers/national-hispanic-latino-pttc/event/preventing-underage-cannabis-use-riskprotective-factors
URL:https://www.liprc.org/event/preventing-underage-cannabis-use-risk-protective-factors-effective-communication-qa-session-with-gisela-rots/
LOCATION:Online
CATEGORIES:Nassau,Suffolk
END:VEVENT
BEGIN:VEVENT
DTSTART;TZID=UTC:20230223T140000
DTEND;TZID=UTC:20230223T150000
DTSTAMP:20260421T095809
CREATED:20230207T161517Z
LAST-MODIFIED:20230207T161517Z
UID:115885-1677160800-1677164400@www.liprc.org
SUMMARY:Advancing Community Prevention Efforts in an Era of Scientific Distrust
DESCRIPTION:Advancing your coalition’s prevention efforts through this era of widespread scientific distrust can feel maddening! How do you respond when decision-makers insist that up is down and left is right? Together\, we’ll explore strategies for determining your community’s readiness to engage with data and prevention messaging\, and also consider techniques that will help to break down resistance to your work!  Our time together will focus on colleagues helping colleagues\, so bring your voice and your wisdom! \nhttps://pttcnetwork.org/centers/northwest-pttc/event/webinar-advancing-community-prevention-efforts-era-scientific-distrust
URL:https://www.liprc.org/event/advancing-community-prevention-efforts-in-an-era-of-scientific-distrust/
LOCATION:Online
CATEGORIES:Nassau,Suffolk
END:VEVENT
BEGIN:VEVENT
DTSTART;TZID=UTC:20230223T130000
DTEND;TZID=UTC:20230223T140000
DTSTAMP:20260421T095809
CREATED:20230207T161428Z
LAST-MODIFIED:20230207T161428Z
UID:115883-1677157200-1677160800@www.liprc.org
SUMMARY:Using Logic Models in Prevention Part 2: Developing and Using Logic Models
DESCRIPTION:This webinar will build from part one of this series. It will first explain in more detail the process of creating a logic model and provide a practice exercise for participants to begin building their own logic models. The webinar will also walk through how to use a completed logic model\, including the steps for turning a logic model into an implementation plan and evaluation plan. Lastly\, the webinar will discuss other uses of logic models\, such as being shared with funders and community partners. The webinar will provide a small group discussion opportunity for participants to share their experiences with logic models\, barriers and challenges encountered when developing logic models\, and success strategies.\nhttps://pttcnetwork.org/centers/central-east-pttc/event/using-logic-models-prevention-part-2-developing-and-using-logic
URL:https://www.liprc.org/event/using-logic-models-in-prevention-part-2-developing-and-using-logic-models/
LOCATION:Online
CATEGORIES:Nassau,Suffolk
END:VEVENT
BEGIN:VEVENT
DTSTART;TZID=UTC:20230223T110000
DTEND;TZID=UTC:20230223T123000
DTSTAMP:20260421T095809
CREATED:20230207T161310Z
LAST-MODIFIED:20230207T161310Z
UID:115881-1677150000-1677155400@www.liprc.org
SUMMARY:Black History Month Panel Presentation Featuring 2023 Hall of Fame Recipients of The Museum of African American Addictions\, Treatment\, and Recovery
DESCRIPTION:Join the Great Lakes ATTC and the 2023 Hall of Fame recipients of the Online Museum of African American Addictions\, Treatment and Recovery for a panel discussion about substance use disorder (SUD) treatment\, culturally appropriate service delivery\, and recovery in African American communities. The panelists will share their expertise and years of experience on these topics with an emphasis on defining recovery in African American communities\, understanding culturally specific approaches to working with African Americans with SUDs\, practicing effective cross-cultural counseling\, and learning how the entire African American community can serve as a recovery community. \nhttps://attcnetwork.org/centers/great-lakes-attc/event/black-history-month-panel-presentation-featuring-2023-hall-fame
URL:https://www.liprc.org/event/black-history-month-panel-presentation-featuring-2023-hall-of-fame-recipients-of-the-museum-of-african-american-addictions-treatment-and-recovery/
LOCATION:Online
CATEGORIES:Nassau,Suffolk
END:VEVENT
BEGIN:VEVENT
DTSTART;TZID=UTC:20230222T180000
DTEND;TZID=UTC:20230222T190000
DTSTAMP:20260421T095809
CREATED:20230207T161209Z
LAST-MODIFIED:20230207T161209Z
UID:115879-1677088800-1677092400@www.liprc.org
SUMMARY:The What – Evidence-Based Alcohol Policies to Reduce Community Level Harms
DESCRIPTION:In collaboration with the Southeast PTTC\, Center for Advancing Alcohol Science to Practice\, and the US Alcohol Policy Alliance\, interactive webinar #2 details alcohol policy strategies that can be effective in reducing excessive and underage drinking\, and their associated community-level harms. This webinar will cover a range of strategies and their levels of effectiveness. \nIn this webinar\, participants will explore: \n\nHow alcohol policy strategies can address excessive and underage drinking at the community level\nWhich alcohol policy strategies are being used in communities across the country\nHow these policy strategies complement the prevention work already happening in local communities\n\nhttps://pttcnetwork.org/centers/pacific-southwest-pttc/event/webinar-2-what-evidence-based-alcohol-policies-reduce
URL:https://www.liprc.org/event/the-what-evidence-based-alcohol-policies-to-reduce-community-level-harms/
CATEGORIES:Nassau,Suffolk
END:VEVENT
BEGIN:VEVENT
DTSTART;TZID=UTC:20230221T130000
DTEND;TZID=UTC:20230221T140000
DTSTAMP:20260421T095809
CREATED:20230207T161035Z
LAST-MODIFIED:20230207T161035Z
UID:115876-1676984400-1676988000@www.liprc.org
SUMMARY:Using Logic Models in Prevention Part 1: What Are Logic Models?
DESCRIPTION:This webinar will provide an introduction of the importance of strategic planning and how and why logic models are a key tool of planning. It will first summarize the five steps of the Strategic Prevention Framework\, SAMHSA’s strategic planning process for prevention\, and explain how strategic planning improves the likelihood of positive prevention outcomes. Next\, the webinar will explain what logic models are and how they support strategic planning efforts. It will walk through the components of a logic model and describe the steps to creating one. The webinar will also include a group practice exercise for identifying and assembling the components of a logic model. \nhttps://pttcnetwork.org/centers/central-east-pttc/event/using-logic-models-prevention-part-1-what-are-logic-models \n 
URL:https://www.liprc.org/event/using-logic-models-in-prevention-part-1-what-are-logic-models/
CATEGORIES:Nassau,Suffolk
END:VEVENT
BEGIN:VEVENT
DTSTART;TZID=UTC:20230217T110000
DTEND;TZID=UTC:20230217T123000
DTSTAMP:20260421T095809
CREATED:20230206T212641Z
LAST-MODIFIED:20230206T212641Z
UID:115863-1676631600-1676637000@www.liprc.org
SUMMARY:Hempstead Prevention Coalition Monthly Meeting
DESCRIPTION:Online- Email April McCarthy (amccarthy@fcali.org) for log in details.
URL:https://www.liprc.org/event/hempstead-prevention-coalition-monthly-meeting/
LOCATION:Online
CATEGORIES:Nassau
END:VEVENT
BEGIN:VEVENT
DTSTART;TZID=UTC:20230216T190000
DTEND;TZID=UTC:20230216T200000
DTSTAMP:20260421T095809
CREATED:20230207T154428Z
LAST-MODIFIED:20230207T154428Z
UID:115870-1676574000-1676577600@www.liprc.org
SUMMARY:Oceanside SAFE General Meeting
DESCRIPTION:Online. Please email Ali Erikson (info@oceansidesafe.org) for details.
URL:https://www.liprc.org/event/oceanside-safe-general-meeting/
LOCATION:Online
CATEGORIES:Nassau
END:VEVENT
BEGIN:VEVENT
DTSTART;TZID=UTC:20230215T190000
DTEND;TZID=UTC:20230215T210000
DTSTAMP:20260421T095809
CREATED:20230206T203537Z
LAST-MODIFIED:20230206T203537Z
UID:115851-1676487600-1676494800@www.liprc.org
SUMMARY:Chris Herren: The First Day (North Shore)
DESCRIPTION:
URL:https://www.liprc.org/event/chris-herren-the-first-day-north-shore/
LOCATION:North Shore High School\, 450 Glen Cove Avenue\, Glen Head\, NY\, 11545\, United States
CATEGORIES:Nassau,Suffolk
END:VEVENT
BEGIN:VEVENT
DTSTART;TZID=UTC:20230215T140000
DTEND;TZID=UTC:20230215T160000
DTSTAMP:20260421T095809
CREATED:20230206T202604Z
LAST-MODIFIED:20230206T202604Z
UID:115836-1676469600-1676476800@www.liprc.org
SUMMARY:Strategic Prevention Framework Learning Collaborative
DESCRIPTION:  \n \nRegister here: https://docs.google.com/forms/d/e/1FAIpQLSfM5kipGeifYzBjaBZht2ZeWLwRLbVCAxvX-CXmJ9-ME5uCFw/viewform 
URL:https://www.liprc.org/event/strategic-prevention-framework-learning-collaborative-2/2023-02-15/
CATEGORIES:Nassau,Suffolk
END:VEVENT
BEGIN:VEVENT
DTSTART;TZID=UTC:20230214T140000
DTEND;TZID=UTC:20230214T153000
DTSTAMP:20260421T095809
CREATED:20230206T211137Z
LAST-MODIFIED:20230206T211154Z
UID:115859-1676383200-1676388600@www.liprc.org
SUMMARY:COMPASS Unity General Meeting
DESCRIPTION:Hybrid In person and online event.\nPlease email CRubin@southcountry.org for log in information.
URL:https://www.liprc.org/event/compass-unity-3/
LOCATION:South Country Central School District Business Office\, 189 Dunton Avenue\, East Patchogue\, NY\, 11772\, United States
CATEGORIES:Suffolk
GEO:40.7503899;-72.9672951
X-APPLE-STRUCTURED-LOCATION;VALUE=URI;X-ADDRESS=South Country Central School District Business Office 189 Dunton Avenue East Patchogue NY 11772 United States;X-APPLE-RADIUS=500;X-TITLE=189 Dunton Avenue:geo:-72.9672951,40.7503899
END:VEVENT
BEGIN:VEVENT
DTSTART;TZID=UTC:20230214T130000
DTEND;TZID=UTC:20230214T140000
DTSTAMP:20260421T095809
CREATED:20230207T160936Z
LAST-MODIFIED:20230207T160936Z
UID:115874-1676379600-1676383200@www.liprc.org
SUMMARY:Language Matters: Challenging Stigmatization Language about Addiction
DESCRIPTION:Research has shown that the words we use to describe substance use disorders (SUD) and recovery have a significant impact on those struggling and how they are treated. While evidence shows that SUDs are medical illnesses\, it is still too common for SUDs to be characterized as a moral failing or character flaw. Disparaging words are\, unfortunately\, still used to describe SUDs and the individuals suffering from them. Research suggests that improving our language when we describe addiction\, such as using person-first language when talking about the disease\, restores and empowers the humanity of individuals\, rather than defining them by their illness.\nhttps://pttcnetwork.org/centers/central-east-pttc/event/language-matters-challenging-stigmatization-language-about
URL:https://www.liprc.org/event/language-matters-challenging-stigmatization-language-about-addiction/
CATEGORIES:Nassau,Suffolk
END:VEVENT
BEGIN:VEVENT
DTSTART;TZID=UTC:20230209T160000
DTEND;TZID=UTC:20230209T180000
DTSTAMP:20260421T095809
CREATED:20230206T203952Z
LAST-MODIFIED:20230206T203952Z
UID:115854-1675958400-1675965600@www.liprc.org
SUMMARY:Dangerous Truth Book Discussion (Manhasset)
DESCRIPTION:
URL:https://www.liprc.org/event/dangerous-truth-book-discussion-manhasset/
LOCATION:Manhasset Public Library\, 30 Onderdonk Ave.\, Manhasset\, NY\, 11050\, United States
CATEGORIES:Nassau,Suffolk
GEO:40.7934854;-73.6947487
X-APPLE-STRUCTURED-LOCATION;VALUE=URI;X-ADDRESS=Manhasset Public Library 30 Onderdonk Ave. Manhasset NY 11050 United States;X-APPLE-RADIUS=500;X-TITLE=30 Onderdonk Ave.:geo:-73.6947487,40.7934854
END:VEVENT
END:VCALENDAR