BEGIN:VCALENDAR
VERSION:2.0
PRODID:-//PRC - ECPv6.15.13//NONSGML v1.0//EN
CALSCALE:GREGORIAN
METHOD:PUBLISH
X-ORIGINAL-URL:https://www.liprc.org
X-WR-CALDESC:Events for PRC
REFRESH-INTERVAL;VALUE=DURATION:PT1H
X-Robots-Tag:noindex
X-PUBLISHED-TTL:PT1H
BEGIN:VTIMEZONE
TZID:UTC
BEGIN:STANDARD
TZOFFSETFROM:+0000
TZOFFSETTO:+0000
TZNAME:UTC
DTSTART:20210101T000000
END:STANDARD
END:VTIMEZONE
BEGIN:VEVENT
DTSTART;TZID=UTC:20221028T080000
DTEND;TZID=UTC:20221028T170000
DTSTAMP:20260423T100945
CREATED:20221013T200429Z
LAST-MODIFIED:20221013T200429Z
UID:115071-1666944000-1666976400@www.liprc.org
SUMMARY:Harm Reduction for the SUD Client and the Criminal Justice System: Principles to Practice (Bridging the Gap)
DESCRIPTION:Dear Georgianna\, \nThe Suffolk County Criminal Justice Addiction Workgroup is pleased to invite you to the 2022 IN PERSON Bridging the Gap Conference: \n  \nHarm Reduction for the SUD Client and the Criminal Justice System: Principles to Practice \n  \nKeynote by: Rob Kent\, General Counsel of White House Office of National Drug Control Policy (ONDCP) \nMr. Kent previously served as a General Counsel for the New York State Office of Addiction Services and Supports (OASAS) and is a strong believer in and advocate for the use of harm reduction principles in the SUD and criminal justice fields. In his role with OASAS\, Mr. Kent provided overall legal support\, policy guidance\, and direction to the OASAS Executive Office and all divisions of the agency. \n  \n  \nThis year’s conference will be held at: \nInn at East Wind Conference Center \nOctober 28\, 2022 \n  \n  \nThere are plenty of ways to be part of this educational day filled with cutting edge information\, sponsorship and networking opportunities. \n  \nThanks to our partners at LICADD\, we are able to offer 5 contact hours for the day! \n  \nInterested in sponsoring or registering? \nSimply click the related link(s) below.\n\n\n\n\n\n\n\n\n\n\nGet more information\n\n\nRegister Now! \nSponsorship Information! \n\n\nI can’t make it
URL:https://www.liprc.org/event/harm-reduction-for-the-sud-client-and-the-criminal-justice-system-principles-to-practice-bridging-the-gap/
LOCATION:East Wind Long Island\, 5270 Route NY-25A\, Wading River\, NY\, 11792\, United States
CATEGORIES:Nassau,Suffolk
GEO:40.9445;-72.817988
X-APPLE-STRUCTURED-LOCATION;VALUE=URI;X-ADDRESS=East Wind Long Island 5270 Route NY-25A Wading River NY 11792 United States;X-APPLE-RADIUS=500;X-TITLE=5270 Route NY-25A:geo:-72.817988,40.9445
END:VEVENT
BEGIN:VEVENT
DTSTART;TZID=UTC:20221027T190000
DTEND;TZID=UTC:20221027T190000
DTSTAMP:20260423T100945
CREATED:20221013T195517Z
LAST-MODIFIED:20221013T195517Z
UID:115057-1666897200-1666897200@www.liprc.org
SUMMARY:Oceanside SAFE Coalition
DESCRIPTION:Please email Ali Erikson for full details: info@oceansidesafe.org
URL:https://www.liprc.org/event/oceanside-safe-coalition/
LOCATION:Online
CATEGORIES:Nassau
END:VEVENT
BEGIN:VEVENT
DTSTART;TZID=UTC:20221027T140000
DTEND;TZID=UTC:20221027T150000
DTSTAMP:20260423T100945
CREATED:20221013T200102Z
LAST-MODIFIED:20221013T200102Z
UID:115065-1666879200-1666882800@www.liprc.org
SUMMARY:Webinar- The What: Evidence-Based Alcohol Policies to Reduce Community Level Harms 
DESCRIPTION:The Southeast PTTC is pleased to present a 3-part series focused on alcohol policies. In collaboration with the Center for Advancing Alcohol Science to Practice and the US Alcohol Policy Alliance\, interactive webinar #2 will discuss alcohol policy strategies that are effective in reducing excessive and underage drinking and their associated community-level harms. We will explore a range of strategies and discuss their levels of effectiveness.\nhttps://pttcnetwork.org/centers/southeast-pttc/event/what-evidence-based-alcohol-policies-reduce-community-level-harms  
URL:https://www.liprc.org/event/webinar-the-what-evidence-based-alcohol-policies-to-reduce-community-level-harms/
LOCATION:Online
CATEGORIES:Nassau,Suffolk
END:VEVENT
BEGIN:VEVENT
DTSTART;TZID=UTC:20221026T100000
DTEND;TZID=UTC:20221026T113000
DTSTAMP:20260423T100945
CREATED:20221013T200007Z
LAST-MODIFIED:20221013T200007Z
UID:115063-1666778400-1666783800@www.liprc.org
SUMMARY:Webinar- Putting the Engage back in Engagement 
DESCRIPTION:Stuck in a rut? Scrambling for time? Wondering what’s next? Are your requests for volunteers met with crickets? One of the biggest struggles that organizations have in this busy culture is to attract and retain volunteers and staff\, in addition to garnering the support of the community in their efforts as well. Attend this session to learn from over 20 years of experience engaging the community\, recruiting volunteers\, and making connections to support that sustainability of your coalition to make the most out of your valuable time…and theirs! https://pttcnetwork.org/centers/great-lakes-pttc/event/putting-engage-back-engagement
URL:https://www.liprc.org/event/webinar-putting-the-engage-back-in-engagement/
LOCATION:Online
CATEGORIES:Nassau,Suffolk
END:VEVENT
BEGIN:VEVENT
DTSTART;TZID=UTC:20221025T183000
DTEND;TZID=UTC:20221025T193000
DTSTAMP:20260423T100945
CREATED:20221014T162542Z
LAST-MODIFIED:20221014T162542Z
UID:115096-1666722600-1666726200@www.liprc.org
SUMMARY:Prevention Night
DESCRIPTION:
URL:https://www.liprc.org/event/prevention-night/
LOCATION:Oceanside High School\, 3160 Skillman Ave\, Oceanside\, NY\, 11572\, United States
CATEGORIES:Nassau
END:VEVENT
BEGIN:VEVENT
DTSTART;TZID=UTC:20221025T080000
DTEND;TZID=UTC:20221025T170000
DTSTAMP:20260423T100945
CREATED:20221011T202526Z
LAST-MODIFIED:20221011T202545Z
UID:115042-1666684800-1666717200@www.liprc.org
SUMMARY:Great South Bay Coalition
DESCRIPTION:Great South Bay Coalition Monthly Meeting In Person at the Congregational Church of Christ Sayville.
URL:https://www.liprc.org/event/great-south-bay-coalition-8/
LOCATION:congregational church sayville\, 131 Middle Rd\, Sayville\, NY\, 11782\, United States
CATEGORIES:Suffolk
END:VEVENT
BEGIN:VEVENT
DTSTART;TZID=UTC:20221023T090000
DTEND;TZID=UTC:20221023T090000
DTSTAMP:20260423T100945
CREATED:20221014T162328Z
LAST-MODIFIED:20221014T162328Z
UID:115092-1666515600-1666515600@www.liprc.org
SUMMARY:Oceanside Coastal Clean up
DESCRIPTION:
URL:https://www.liprc.org/event/oceanside-coastal-clean-up/
LOCATION:Luis G. Alvarez Memorial Park
CATEGORIES:Nassau
END:VEVENT
BEGIN:VEVENT
DTSTART;VALUE=DATE:20221023
DTEND;VALUE=DATE:20221101
DTSTAMP:20260423T100945
CREATED:20221013T200309Z
LAST-MODIFIED:20221013T200309Z
UID:115069-1666483200-1667260799@www.liprc.org
SUMMARY:Red Ribbon Week
DESCRIPTION:Red Ribbon Week Inc. offers activities\, morning announcements\, social media graphics\, pledges\, coloring pages\, and more that you can use during Red Ribbon Week. Visit their website Download Section to gain access.
URL:https://www.liprc.org/event/red-ribbon-week/
CATEGORIES:Nassau,Suffolk
END:VEVENT
BEGIN:VEVENT
DTSTART;TZID=UTC:20221022T080000
DTEND;TZID=UTC:20221022T120000
DTSTAMP:20260423T100945
CREATED:20221014T142646Z
LAST-MODIFIED:20221014T142646Z
UID:115078-1666425600-1666440000@www.liprc.org
SUMMARY:Northport East-Northport Drug and Alcohol Task Force Color Run
DESCRIPTION:Help us kick off Recovery\, Awareness\, Prevention Week! Run or walk on our Color Run course and get splashed with color!\nThis year\, the entire Color Run course will be on the grounds of Northport Middle School. The course is about one mile long. Participants are welcome to run or walk\, and can take the course multiples if they choose! We’ve also added some new activities: life-sized yard games\, photo booths\, and dancing.\n\nRegistration\n$10 registration fee for individuals\n$30 registration fee for family/teams (3-5 people)\n*Directions on how to register as a family/team is listed under the register drop down. \nRegistration opens September 1\, 2022 and closes October 21\, 2022.\nYou can also register the night before at our t-shirt pickup event. \nGiveaways\nFirst 500 registrants will get a Color Run T-shirt. See below for pickup details.\nEvent Details\nSaturday October 22\, 2022\nCheck-in: 8:00-8:45am\nOpening Ceremony: 9:00am\nRace Starts: 9:15am \nFollowing the race\, stick around for lawn games\, snacks and fun! \nInformation and Registration here: https://runsignup.com/Race/NY/Northport/DATFColorRun2021
URL:https://www.liprc.org/event/northport-east-northport-drug-and-alcohol-task-force-color-run-2/
LOCATION:Northport Middle School\, 11 Middleville Rd\, Northport\, NY\, 11768\, United States
CATEGORIES:Nassau,Suffolk
END:VEVENT
BEGIN:VEVENT
DTSTART;TZID=UTC:20221021T170000
DTEND;TZID=UTC:20221021T190000
DTSTAMP:20260423T100945
CREATED:20221014T161339Z
LAST-MODIFIED:20221014T161339Z
UID:115085-1666371600-1666378800@www.liprc.org
SUMMARY:Red Ribbon Week Kickoff (Levittown)
DESCRIPTION:
URL:https://www.liprc.org/event/red-ribbon-week-kickoff-levittown-2/
LOCATION:Good Shepard Lutheran Church\, 99 Central Park Rd\, Plainview\, NY\, 11803\, United States
CATEGORIES:Nassau
GEO:40.7790676;-73.4784073
X-APPLE-STRUCTURED-LOCATION;VALUE=URI;X-ADDRESS=Good Shepard Lutheran Church 99 Central Park Rd Plainview NY 11803 United States;X-APPLE-RADIUS=500;X-TITLE=99 Central Park Rd:geo:-73.4784073,40.7790676
END:VEVENT
BEGIN:VEVENT
DTSTART;TZID=UTC:20221019T190000
DTEND;TZID=UTC:20221019T210000
DTSTAMP:20260423T100945
CREATED:20221011T201957Z
LAST-MODIFIED:20221011T201957Z
UID:115039-1666206000-1666213200@www.liprc.org
SUMMARY:Northport-East Northport Drug and Alcohol Task Force
DESCRIPTION:In person meeting of the Northport-East Northport Drug and Alcohol Task Force
URL:https://www.liprc.org/event/northport-east-northport-drug-and-alcohol-task-force-4/
LOCATION:William J Brosnan Building (Northport-East Northport Admin.)\, 158 Laurel Avenue\, Northport\, NY\, 11768\, United States
CATEGORIES:Suffolk
GEO:40.8984655;-73.3367104
X-APPLE-STRUCTURED-LOCATION;VALUE=URI;X-ADDRESS=William J Brosnan Building (Northport-East Northport Admin.) 158 Laurel Avenue Northport NY 11768 United States;X-APPLE-RADIUS=500;X-TITLE=158 Laurel Avenue:geo:-73.3367104,40.8984655
END:VEVENT
BEGIN:VEVENT
DTSTART;TZID=UTC:20221017T190000
DTEND;TZID=UTC:20221017T210000
DTSTAMP:20260423T100945
CREATED:20221011T201101Z
LAST-MODIFIED:20221011T201101Z
UID:115037-1666033200-1666040400@www.liprc.org
SUMMARY:Rockville Centre Coalition for Youth Meeting
DESCRIPTION:Please email Ruthanne for log on details ramccormack@icloud.com
URL:https://www.liprc.org/event/rockville-centre-coalition-for-youth-meeting-8/
LOCATION:Online
CATEGORIES:Nassau
END:VEVENT
BEGIN:VEVENT
DTSTART;TZID=UTC:20221013T180000
DTEND;TZID=UTC:20221013T210000
DTSTAMP:20260423T100945
CREATED:20221011T200713Z
LAST-MODIFIED:20221011T200713Z
UID:115032-1665684000-1665694800@www.liprc.org
SUMMARY:Substance Misuse Prevention Educational Forum
DESCRIPTION:  \nSubstance Misuse Forum Flyer[55]
URL:https://www.liprc.org/event/substance-misuse-prevention-educational-forum/
LOCATION:Mount Sinai\, 110 N Country Rd\, Mt Sinai\, NY\, 11766\, United States
CATEGORIES:Nassau,Suffolk
END:VEVENT
BEGIN:VEVENT
DTSTART;TZID=UTC:20221013T160000
DTEND;TZID=UTC:20221013T170000
DTSTAMP:20260423T100945
CREATED:20221011T202731Z
LAST-MODIFIED:20221011T202731Z
UID:115045-1665676800-1665680400@www.liprc.org
SUMMARY:Prevention Matters NY Call
DESCRIPTION:Email Kym Laube to be added to the email list: kym@hugsinc.org
URL:https://www.liprc.org/event/prevention-matters-ny-call-2/2022-10-13/
LOCATION:Online
END:VEVENT
BEGIN:VEVENT
DTSTART;TZID=UTC:20221013T143000
DTEND;TZID=UTC:20221013T160000
DTSTAMP:20260423T100945
CREATED:20221011T195554Z
LAST-MODIFIED:20221011T195554Z
UID:115030-1665671400-1665676800@www.liprc.org
SUMMARY:Riverhead Community Coalition for Safe & Drug Free Youth Coalition Meeting
DESCRIPTION:Hybrid Meeting at the East end Hyatt and Online. Please contact Felicia Scocozza for zoom details: Director@RiverheadCAP.org
URL:https://www.liprc.org/event/riverhead-community-coalition-for-safe-drug-free-youth-coalition-meeting-11/
LOCATION:Hyatt Place\, 451 East Main St\, Riverhead\, NY\, 11901
CATEGORIES:Suffolk
GEO:40.9183462;-72.6558263
X-APPLE-STRUCTURED-LOCATION;VALUE=URI;X-ADDRESS=Hyatt Place 451 East Main St Riverhead NY 11901;X-APPLE-RADIUS=500;X-TITLE=451 East Main St:geo:-72.6558263,40.9183462
END:VEVENT
BEGIN:VEVENT
DTSTART;VALUE=DATE:20221013
DTEND;VALUE=DATE:20221014
DTSTAMP:20260423T100945
CREATED:20221013T200224Z
LAST-MODIFIED:20221013T200224Z
UID:115067-1665619200-1665705599@www.liprc.org
SUMMARY:Seen Enough Tobacco Day
DESCRIPTION:Youth members of Reality Check of New York are declared October 13\, 2022 as the sixth annual “Seen Enough Tobacco Day” to raise awareness about the impact of tobacco marketing and to work to protect themselves and their communities from the billions of dollars of tobacco promotions that overwhelmingly target youth and minorities. Visit their website for more details and materials to participate: https://tobaccofreenys.org/events/seenenoughtobacco/
URL:https://www.liprc.org/event/seen-enough-tobacco-day/
CATEGORIES:Nassau,Suffolk
END:VEVENT
BEGIN:VEVENT
DTSTART;TZID=UTC:20221012T130000
DTEND;TZID=UTC:20221012T140000
DTSTAMP:20260423T100945
CREATED:20221013T195853Z
LAST-MODIFIED:20221013T195853Z
UID:115061-1665579600-1665583200@www.liprc.org
SUMMARY:Webinar: Stigma Series Part 2: Debunking the Myths Around Addiction 
DESCRIPTION:October 12th 1pm ET  \nSubstance use disorders (SUD) are some of the most highly stigmatized health conditions worldwide\, and stigma creates barriers to early intervention\, screening\, treatment\, and effective recovery. Addressing addiction like a disease instead of a moral failing requires shifts in practice as well as understanding. There is also a significant body of research defining the most effective treatments for substance use disorder (SUD). Yet many myths persist about the nature of addiction and the right ways to treat it. These myths remain due to various factors\, most of which are rooted in deep-set cultural notions of addiction that fail to consider the science behind the disorder. These myths are uniquely harmful as they are often “assumed” to be true and thus considered by some to be self-evident. \nIn this two-part presentation\, participants will learn about addiction myths and misinformation\, including the myth of ”28 days\,” the myth of replacing one drug for another\, and the myth of “rock bottom”.  \nhttps://pttcnetwork.org/centers/central-east-pttc/event/stigma-series-challenging-stigma-surrounding-addiction-part-2 
URL:https://www.liprc.org/event/webinar-stigma-series-part-2-debunking-the-myths-around-addiction/
LOCATION:Online
CATEGORIES:Nassau,Suffolk
END:VEVENT
BEGIN:VEVENT
DTSTART;TZID=UTC:20221011T140000
DTEND;TZID=UTC:20221011T153000
DTSTAMP:20260423T100945
CREATED:20221011T194906Z
LAST-MODIFIED:20221011T194906Z
UID:115028-1665496800-1665502200@www.liprc.org
SUMMARY:COMPASS Unity
DESCRIPTION:Hybrid In person and online event.\nPlease email Phyllis Virno at pvirno@southcountry.org for log in information.
URL:https://www.liprc.org/event/compass-unity-2/
LOCATION:South Country Central School District Business Office\, 189 Dunton Avenue\, East Patchogue\, NY\, 11772\, United States
CATEGORIES:Suffolk
GEO:40.7503899;-72.9672951
X-APPLE-STRUCTURED-LOCATION;VALUE=URI;X-ADDRESS=South Country Central School District Business Office 189 Dunton Avenue East Patchogue NY 11772 United States;X-APPLE-RADIUS=500;X-TITLE=189 Dunton Avenue:geo:-72.9672951,40.7503899
END:VEVENT
BEGIN:VEVENT
DTSTART;TZID=UTC:20221004T130000
DTEND;TZID=UTC:20221004T140000
DTSTAMP:20260423T100945
CREATED:20221013T195720Z
LAST-MODIFIED:20221013T195720Z
UID:115059-1664888400-1664892000@www.liprc.org
SUMMARY:Webinar- Adapting Evidence-based Interventions for Under-Resourced Populations 
DESCRIPTION:This webinar will highlight findings from SAMHSA’s guide titled\, Adapting Interventions for Under-resourced Populations\, which explores evidence-based\, organization-level strategies and promising practices to adapt and evaluate evidence-based practices in culturally humble and effective ways. Following a presentation of the goals and framing of the guide by SAMHSA’s Mary Roary\, PhD\, Angela Weeks\, DBA of The Center of Excellence on LGBTQ+ Behavioral Heath Equity and the guide’s technical expert panel will discuss its development. Rucha Londhe\, PhD\, Abt Associates\, will describe the adaptation process and best practice strategies for cultural adaptation of evidence-based interventions. Representatives from organizations featured in the guide’s case studies will discuss how they have adapted interventions for specific populations. The webinar will close with information about how to access the guide.  \nhttps://attcnetwork.org/centers/global-attc/event/adapting-evidence-based-interventions-under-resourced-populations  
URL:https://www.liprc.org/event/webinar-adapting-evidence-based-interventions-for-under-resourced-populations/
LOCATION:Online
CATEGORIES:Nassau,Suffolk
END:VEVENT
BEGIN:VEVENT
DTSTART;TZID=UTC:20220929T190000
DTEND;TZID=UTC:20220929T210000
DTSTAMP:20260423T100945
CREATED:20220818T172517Z
LAST-MODIFIED:20220818T172517Z
UID:114893-1664478000-1664485200@www.liprc.org
SUMMARY:Celebrate Hope and Recovery (Northport)
DESCRIPTION:
URL:https://www.liprc.org/event/celebrate-hope-and-recovery-northport/
LOCATION:St. Paul’s United Methodist Church\, 270 Main Street\, Northport\, NY\, 11768\, United States
CATEGORIES:Nassau,Suffolk
END:VEVENT
BEGIN:VEVENT
DTSTART;TZID=UTC:20220928T180000
DTEND;TZID=UTC:20220928T200000
DTSTAMP:20260423T100945
CREATED:20220920T161020Z
LAST-MODIFIED:20220920T161020Z
UID:115000-1664388000-1664395200@www.liprc.org
SUMMARY:Narcan Training - Massapequa Park
DESCRIPTION:SAVE A LIFE! -Narcan Training – Massapequa Park – Sept. 28th 6PM-8PM \, Massapequa Park Village Hall\, NY
URL:https://www.liprc.org/event/narcan-training-massapequa-park/
CATEGORIES:Nassau,Suffolk
END:VEVENT
BEGIN:VEVENT
DTSTART;TZID=UTC:20220924T110000
DTEND;TZID=UTC:20220924T140000
DTSTAMP:20260423T100945
CREATED:20220805T154159Z
LAST-MODIFIED:20220805T154159Z
UID:114853-1664017200-1664028000@www.liprc.org
SUMMARY:Town of Huntington Walk for Recovery
DESCRIPTION:
URL:https://www.liprc.org/event/town-of-huntington-walk-for-recovery/
LOCATION:Heckscher Park (Huntington)\, NY25A & Prime Ave\, Huntington\, NY\, 11743\, United States
CATEGORIES:Nassau,Suffolk
GEO:40.8734091;-73.421255
X-APPLE-STRUCTURED-LOCATION;VALUE=URI;X-ADDRESS=Heckscher Park (Huntington) NY25A & Prime Ave Huntington NY 11743 United States;X-APPLE-RADIUS=500;X-TITLE=NY25A & Prime Ave:geo:-73.421255,40.8734091
END:VEVENT
BEGIN:VEVENT
DTSTART;TZID=UTC:20220922T190000
DTEND;TZID=UTC:20220922T210000
DTSTAMP:20260423T100945
CREATED:20220829T133249Z
LAST-MODIFIED:20220829T133249Z
UID:114921-1663873200-1663880400@www.liprc.org
SUMMARY:Tipping the Pain Scales Screening (Huntington)
DESCRIPTION:Film Show Flyer
URL:https://www.liprc.org/event/tipping-the-pain-scales-screening-huntington/
LOCATION:Cinema Arts Centre\, 423 Park Ave\, Huntington\, 11743\, United States
CATEGORIES:Nassau,Suffolk
END:VEVENT
BEGIN:VEVENT
DTSTART;TZID=UTC:20220921T170000
DTEND;TZID=UTC:20220921T190000
DTSTAMP:20260423T100945
CREATED:20220818T181721Z
LAST-MODIFIED:20220818T181721Z
UID:114900-1663779600-1663786800@www.liprc.org
SUMMARY:Crab Meadow Beach Clean-Up
DESCRIPTION:
URL:https://www.liprc.org/event/crab-meadow-beach-clean-up/
LOCATION:Crab Meadow Beach\, Waterview St W\, Fort Salonga\, NY\, 11768
CATEGORIES:Suffolk
GEO:40.9281758;-73.3328164
X-APPLE-STRUCTURED-LOCATION;VALUE=URI;X-ADDRESS=Crab Meadow Beach Waterview St W Fort Salonga NY 11768;X-APPLE-RADIUS=500;X-TITLE=Waterview St W:geo:-73.3328164,40.9281758
END:VEVENT
BEGIN:VEVENT
DTSTART;TZID=UTC:20220831T193000
DTEND;TZID=UTC:20220831T210000
DTSTAMP:20260423T100945
CREATED:20220818T174952Z
LAST-MODIFIED:20220818T174952Z
UID:114897-1661974200-1661979600@www.liprc.org
SUMMARY:Second Annual Overdose Awareness Day Candlelight Vigil
DESCRIPTION:
URL:https://www.liprc.org/event/second-annual-overdose-awareness-day-candlelight-vigil/
LOCATION:Northport Village Park\, 63 Bayview Ave\, Northport\, NY\, 11768\, United States
CATEGORIES:Nassau,Suffolk
END:VEVENT
BEGIN:VEVENT
DTSTART;TZID=UTC:20220831T190000
DTEND;TZID=UTC:20220831T200000
DTSTAMP:20260423T100945
CREATED:20220829T162117Z
LAST-MODIFIED:20220829T162117Z
UID:114936-1661972400-1661976000@www.liprc.org
SUMMARY:YES CCC Overdose Awareness Day Lights of Hope (Seaford)
DESCRIPTION:YES CCC Overdose Awareness Day Community events
URL:https://www.liprc.org/event/yes-ccc-overdose-awareness-day-lights-of-hope-seaford/
LOCATION:Maria Regina Church\, 3945 Jerusalem Rd.\, Seaford\, NY\, 11783\, United States
CATEGORIES:Nassau,Suffolk
GEO:40.6917295;-73.4815026
X-APPLE-STRUCTURED-LOCATION;VALUE=URI;X-ADDRESS=Maria Regina Church 3945 Jerusalem Rd. Seaford NY 11783 United States;X-APPLE-RADIUS=500;X-TITLE=3945 Jerusalem Rd.:geo:-73.4815026,40.6917295
END:VEVENT
BEGIN:VEVENT
DTSTART;TZID=UTC:20220831T183000
DTEND;TZID=UTC:20220831T203000
DTSTAMP:20260423T100945
CREATED:20220829T134135Z
LAST-MODIFIED:20220829T134135Z
UID:114926-1661970600-1661977800@www.liprc.org
SUMMARY:Overdose Awareness Day Rally and Candlelight Vigil (Deer Park)
DESCRIPTION:DPDPC Overdose Awareness Rally 2022
URL:https://www.liprc.org/event/overdose-awareness-day-rally-and-candlelight-vigil-deer-park/
LOCATION:Geiger Park\, Grand Blvd\, Deer Park\, NY\, 11729\, United States
CATEGORIES:Nassau,Suffolk
END:VEVENT
BEGIN:VEVENT
DTSTART;TZID=UTC:20220831T180000
DTEND;TZID=UTC:20220831T200000
DTSTAMP:20260423T100945
CREATED:20220829T162524Z
LAST-MODIFIED:20220829T162524Z
UID:114940-1661968800-1661976000@www.liprc.org
SUMMARY:Massapequa Park Goes Purple Recovery Month Events
DESCRIPTION:
URL:https://www.liprc.org/event/massapequa-park-goes-purple-recovery-month-events/2022-08-31/
LOCATION:Various- Check image
CATEGORIES:Nassau,Suffolk
END:VEVENT
BEGIN:VEVENT
DTSTART;TZID=UTC:20220831T123000
DTEND;TZID=UTC:20220831T150000
DTSTAMP:20260423T100945
CREATED:20220829T131845Z
LAST-MODIFIED:20220829T131845Z
UID:114912-1661949000-1661958000@www.liprc.org
SUMMARY:International Overdose Awareness Day (THRIVE)
DESCRIPTION:Wednesday August 31st\n12PM – 3PM \n1324 Motor Parkway\, Suite 200\nHauppauge NY 11749 \nReading of Names\nNarcan Training\nCandlelight Remembrance Vigil \nOn Wednesday August 31st\, in honor of International Overdose Awareness Day\, Thrive Recovery Centers will be commemorating and remembering those we have lost. \nThe event will be held at THRIVE Recovery Center in Hauppauge starting at 12pm with a Reading of Names and Candlelight Vigil followed by a Narcan Training.
URL:https://www.liprc.org/event/international-overdose-awareness-day-thrive/
LOCATION:Thrive Recovery Community Center\, 1324 Motor Parkway\, Hauppauge\, NY
CATEGORIES:Nassau,Suffolk
END:VEVENT
BEGIN:VEVENT
DTSTART;TZID=UTC:20220831T120000
DTEND;TZID=UTC:20220831T130000
DTSTAMP:20260423T100945
CREATED:20220829T132512Z
LAST-MODIFIED:20220829T132512Z
UID:114917-1661947200-1661950800@www.liprc.org
SUMMARY:Opiate Overdose Prevention Training (Smithtown)
DESCRIPTION:
URL:https://www.liprc.org/event/opiate-overdose-prevention-training-smithtown/2022-08-31/
LOCATION:Horizons Counseling and Education Center\, 161 E. Main St.\, Smithtown\, NY\, 11787\, United States
CATEGORIES:Nassau,Suffolk
GEO:40.8563508;-73.1884597
X-APPLE-STRUCTURED-LOCATION;VALUE=URI;X-ADDRESS=Horizons Counseling and Education Center 161 E. Main St. Smithtown NY 11787 United States;X-APPLE-RADIUS=500;X-TITLE=161 E. Main St.:geo:-73.1884597,40.8563508
END:VEVENT
END:VCALENDAR