BEGIN:VCALENDAR
VERSION:2.0
PRODID:-//PRC - ECPv6.15.13//NONSGML v1.0//EN
CALSCALE:GREGORIAN
METHOD:PUBLISH
X-WR-CALNAME:PRC
X-ORIGINAL-URL:https://www.liprc.org
X-WR-CALDESC:Events for PRC
REFRESH-INTERVAL;VALUE=DURATION:PT1H
X-Robots-Tag:noindex
X-PUBLISHED-TTL:PT1H
BEGIN:VTIMEZONE
TZID:UTC
BEGIN:STANDARD
TZOFFSETFROM:+0000
TZOFFSETTO:+0000
TZNAME:UTC
DTSTART:20210101T000000
END:STANDARD
END:VTIMEZONE
BEGIN:VEVENT
DTSTART;TZID=UTC:20220608T190000
DTEND;TZID=UTC:20220608T210000
DTSTAMP:20260425T154042
CREATED:20220606T195657Z
LAST-MODIFIED:20220606T195657Z
UID:114739-1654714800-1654722000@www.liprc.org
SUMMARY:Massapequa Takes Action General Meeting
DESCRIPTION:Please email info@mtacoalition.com for log in information
URL:https://www.liprc.org/event/massapequa-takes-action-general-meeting-6/
CATEGORIES:Nassau
END:VEVENT
BEGIN:VEVENT
DTSTART;TZID=UTC:20220608T130000
DTEND;TZID=UTC:20220608T143000
DTSTAMP:20260425T154042
CREATED:20220606T202250Z
LAST-MODIFIED:20220606T202250Z
UID:114754-1654693200-1654698600@www.liprc.org
SUMMARY:Webinar- Strategic Alliance: Prevention Across the Continuum of Care
DESCRIPTION:Substance misuse prevention efforts educate and support individuals and communities to prevent the use and misuse of drugs\, yet there remains a portion of our communities who use substances. Harm reduction includes strategies and ideas that aim to reduce the negative consequences related to substance misuse. Harm reduction can be considered as an approach to secondary prevention of risky behavior among youth with the intent to save lives\, reduce consequences and build support. \nhttps://pttcnetwork.org/centers/central-east-pttc/event/strategic-alliance-prevention-across-continuum-care
URL:https://www.liprc.org/event/webinar-strategic-alliance-prevention-across-the-continuum-of-care/
CATEGORIES:Nassau,Suffolk
END:VEVENT
BEGIN:VEVENT
DTSTART;TZID=UTC:20220607T190000
DTEND;TZID=UTC:20220607T190000
DTSTAMP:20260425T154042
CREATED:20220509T145049Z
LAST-MODIFIED:20220509T145049Z
UID:114667-1654628400-1654628400@www.liprc.org
SUMMARY:Town of Hempstead Free Drug Awareness Seminar - Valley Stream
DESCRIPTION:Click for flyer
URL:https://www.liprc.org/event/town-of-hempstead-free-drug-awareness-seminar-valley-stream/
CATEGORIES:Nassau
END:VEVENT
BEGIN:VEVENT
DTSTART;TZID=UTC:20220607T183000
DTEND;TZID=UTC:20220607T200000
DTSTAMP:20260425T154042
CREATED:20220606T165208Z
LAST-MODIFIED:20220606T165208Z
UID:114719-1654626600-1654632000@www.liprc.org
SUMMARY:COMPASS Unity Community Mapping
DESCRIPTION:Community Mapping Flyer 2022 (1)
URL:https://www.liprc.org/event/compass-unity-community-mapping/
LOCATION:The Journey Church\, 424 Columbus Ave\, Patchogue\, NY\, 11772\, United States
CATEGORIES:Suffolk
END:VEVENT
BEGIN:VEVENT
DTSTART;TZID=UTC:20220607T130000
DTEND;TZID=UTC:20220607T130000
DTSTAMP:20260425T154042
CREATED:20220606T202151Z
LAST-MODIFIED:20220606T202151Z
UID:114752-1654606800-1654606800@www.liprc.org
SUMMARY:Webinar-The Ongoing Opioid Epidemic Part 1: The Current Landscape
DESCRIPTION:June 7th 1PM ET \nThis webinar will provide a broad overview of opioid trends in the Central East region and nationwide\, including what is known about the impact of the COVID-19 pandemic. It will review changes in use and consequences\, and ongoing shifts in substance preferences. As part of this\, the webinar will discuss the increasing frequency of polysubstance use and its impact on prevention. Lastly\, the webinar will review the latest research on the social determinants of health and other risk and protective factors. \nhttps://pttcnetwork.org/centers/central-east-pttc/event/ongoing-opioid-epidemic-part-1-current-landscape
URL:https://www.liprc.org/event/webinar-the-ongoing-opioid-epidemic-part-1-the-current-landscape/
LOCATION:Online
CATEGORIES:Nassau,Suffolk
END:VEVENT
BEGIN:VEVENT
DTSTART;TZID=UTC:20220603T110000
DTEND;TZID=UTC:20220603T123000
DTSTAMP:20260425T154042
CREATED:20220606T164514Z
LAST-MODIFIED:20220606T164514Z
UID:114717-1654254000-1654259400@www.liprc.org
SUMMARY:Hempstead Prevention Coalition Meeting
DESCRIPTION:Please email Thurston O’Neal at toneal@fcali.org for Zoom information
URL:https://www.liprc.org/event/hempstead-prevention-coalition-meeting-16/
CATEGORIES:Nassau
END:VEVENT
BEGIN:VEVENT
DTSTART;TZID=UTC:20220603T100000
DTEND;TZID=UTC:20220603T113000
DTSTAMP:20260425T154042
CREATED:20220606T163510Z
LAST-MODIFIED:20220606T163510Z
UID:114713-1654250400-1654255800@www.liprc.org
SUMMARY:Brentwood Community & SCCC Coalition Meeting
DESCRIPTION:Please email Kathleen Flynn- Bisson for sign in info at flynn@sunysuffolk.edu
URL:https://www.liprc.org/event/brentwood-community-sccc-coalition-meeting-6/
LOCATION:Online
CATEGORIES:Suffolk
END:VEVENT
BEGIN:VEVENT
DTSTART;TZID=UTC:20220602T143000
DTEND;TZID=UTC:20220602T160000
DTSTAMP:20260425T154042
CREATED:20220606T164337Z
LAST-MODIFIED:20220606T164337Z
UID:114715-1654180200-1654185600@www.liprc.org
SUMMARY:Farmingdale ADAPT Coalition Meeting
DESCRIPTION:Please email Julie Goble for log in details\, at gobleja@farmingdale.edu
URL:https://www.liprc.org/event/farmingdale-adapt-coalition-meeting-6/
LOCATION:Farmingdale State College\, 2350 Broadhollow Rd\, Farmingdale\, NY\, 11735
CATEGORIES:Nassau,Suffolk
END:VEVENT
BEGIN:VEVENT
DTSTART;TZID=UTC:20220523T190000
DTEND;TZID=UTC:20220523T190000
DTSTAMP:20260425T154042
CREATED:20220509T144830Z
LAST-MODIFIED:20220509T144830Z
UID:114665-1653332400-1653332400@www.liprc.org
SUMMARY:Town of Hempstead Free Drug Awareness Seminar - Hicksville
DESCRIPTION:Click for flyer
URL:https://www.liprc.org/event/town-of-hempstead-free-drug-awareness-seminar-hicksville/
CATEGORIES:Nassau
END:VEVENT
BEGIN:VEVENT
DTSTART;TZID=UTC:20220517T090000
DTEND;TZID=UTC:20220517T170000
DTSTAMP:20260425T154042
CREATED:20220406T155321Z
LAST-MODIFIED:20220406T202041Z
UID:114526-1652778000-1652806800@www.liprc.org
SUMMARY:Substance Abuse Prevention Skills Training (In Person)
DESCRIPTION:Register here: https://forms.gle/c4Sw2hK5g5BX8J3m7
URL:https://www.liprc.org/event/substance-abuse-prevention-skills-training-5/2022-05-17/
LOCATION:Family Service League Bay Shore\, 1444 5th Ave\, Bay Shore\, NY\, 11706\, United States
GEO:40.7455031;-73.2648523
X-APPLE-STRUCTURED-LOCATION;VALUE=URI;X-ADDRESS=Family Service League Bay Shore 1444 5th Ave Bay Shore NY 11706 United States;X-APPLE-RADIUS=500;X-TITLE=1444 5th Ave:geo:-73.2648523,40.7455031
END:VEVENT
BEGIN:VEVENT
DTSTART;TZID=UTC:20220512T190000
DTEND;TZID=UTC:20220512T190000
DTSTAMP:20260425T154042
CREATED:20220509T144658Z
LAST-MODIFIED:20220509T144658Z
UID:114663-1652382000-1652382000@www.liprc.org
SUMMARY:Town of Hempstead Free Drug Awareness Seminar - Hempstead
DESCRIPTION:
URL:https://www.liprc.org/event/town-of-hempstead-free-drug-awareness-seminar-hempstead/
CATEGORIES:Nassau
END:VEVENT
BEGIN:VEVENT
DTSTART;TZID=UTC:20220512T190000
DTEND;TZID=UTC:20220512T190000
DTSTAMP:20260425T154042
CREATED:20220509T143814Z
LAST-MODIFIED:20220509T143814Z
UID:114654-1652382000-1652382000@www.liprc.org
SUMMARY:Opioid Overdose Prevention Training- East Northport
DESCRIPTION:
URL:https://www.liprc.org/event/opioid-overdose-prevention-training-east-northport/
CATEGORIES:Suffolk
END:VEVENT
BEGIN:VEVENT
DTSTART;TZID=UTC:20220512T100000
DTEND;TZID=UTC:20220512T120000
DTSTAMP:20260425T154042
CREATED:20220404T170725Z
LAST-MODIFIED:20220406T155715Z
UID:114521-1652349600-1652356800@www.liprc.org
SUMMARY:The Changing Landscape of Online Gaming (In Person)
DESCRIPTION:Register and/or pay for credits at the links in the below flyer.\nThe Changing Landscape of Online Gambling Flyer.May 12th 2022
URL:https://www.liprc.org/event/the-changing-landscape-of-online-gaming/
END:VEVENT
BEGIN:VEVENT
DTSTART;TZID=UTC:20220511T190000
DTEND;TZID=UTC:20220511T190000
DTSTAMP:20260425T154042
CREATED:20220509T145530Z
LAST-MODIFIED:20220509T145530Z
UID:114672-1652295600-1652295600@www.liprc.org
SUMMARY:Community Meeting: Protect & Serve - Deer Park
DESCRIPTION:Click for flyer
URL:https://www.liprc.org/event/community-meeting-protect-serve-deer-park/
CATEGORIES:Suffolk
END:VEVENT
BEGIN:VEVENT
DTSTART;TZID=UTC:20220510T150000
DTEND;TZID=UTC:20220510T163000
DTSTAMP:20260425T154042
CREATED:20220406T160123Z
LAST-MODIFIED:20220406T160123Z
UID:114536-1652194800-1652200200@www.liprc.org
SUMMARY:Overview of Skills for Psychological Recovery (SPR)\, Support for Students Experiencing Trauma (SSET)\, and Parenting Wisely (PW) (HYBRID)
DESCRIPTION:Register Here: https://forms.gle/s3TavzboV8GVo2Lv8\nPay for MSW/MHC here: https://ezregister.com/events/36468/
URL:https://www.liprc.org/event/overview-of-skills-for-psychological-recovery-spr-support-for-students-experiencing-trauma-sset-and-parenting-wisely-pw-hybrid/
LOCATION:Family Service League Bay Shore\, 1444 5th Ave\, Bay Shore\, NY\, 11706\, United States
CATEGORIES:Nassau,Suffolk
GEO:40.7455031;-73.2648523
X-APPLE-STRUCTURED-LOCATION;VALUE=URI;X-ADDRESS=Family Service League Bay Shore 1444 5th Ave Bay Shore NY 11706 United States;X-APPLE-RADIUS=500;X-TITLE=1444 5th Ave:geo:-73.2648523,40.7455031
END:VEVENT
BEGIN:VEVENT
DTSTART;TZID=UTC:20220503T190000
DTEND;TZID=UTC:20220503T190000
DTSTAMP:20260425T154042
CREATED:20220509T144533Z
LAST-MODIFIED:20220509T145257Z
UID:114660-1651604400-1651604400@www.liprc.org
SUMMARY:Town of Hempstead Free Drug Awareness Seminar - Merrick
DESCRIPTION:Click for flyer
URL:https://www.liprc.org/event/free-drug-awareness-seminar-merrick/
CATEGORIES:Nassau
END:VEVENT
BEGIN:VEVENT
DTSTART;TZID=UTC:20220430T100000
DTEND;TZID=UTC:20220430T130000
DTSTAMP:20260425T154042
CREATED:20220426T181228Z
LAST-MODIFIED:20220426T181228Z
UID:114612-1651312800-1651323600@www.liprc.org
SUMMARY:Shed the Meds (Brentwood)
DESCRIPTION:Shed the Meds event 4-30-22
URL:https://www.liprc.org/event/shed-the-meds-brentwood/
LOCATION:Brentwood Public Library\, 34 Second Ave\, Brentwood\, NY\, 11717\, United States
CATEGORIES:Nassau,Suffolk
END:VEVENT
BEGIN:VEVENT
DTSTART;TZID=UTC:20220430T100000
DTEND;TZID=UTC:20220430T120000
DTSTAMP:20260425T154042
CREATED:20220426T182005Z
LAST-MODIFIED:20220426T182005Z
UID:114625-1651312800-1651320000@www.liprc.org
SUMMARY:Shed the Meds (Hempstead and Roosevelt
DESCRIPTION:
URL:https://www.liprc.org/event/shed-the-meds-hempstead-and-roosevelt/
LOCATION:Roosevelt Family Health Center\, 380 Nassau Rd.\, Roosevelt\, NY\, 11575\, United States
CATEGORIES:Nassau
END:VEVENT
BEGIN:VEVENT
DTSTART;TZID=UTC:20220430T093000
DTEND;TZID=UTC:20220430T123000
DTSTAMP:20260425T154042
CREATED:20220426T182222Z
LAST-MODIFIED:20220426T182222Z
UID:114630-1651311000-1651321800@www.liprc.org
SUMMARY:Shed the Meds (Massapequa)
DESCRIPTION:
URL:https://www.liprc.org/event/shed-the-meds-massapequa-2/
LOCATION:Massapequa High School\, 4925 Merrick Road\, Massapequa\, NY\, 11758\, United States
CATEGORIES:Nassau
GEO:40.6677993;-73.4529382
X-APPLE-STRUCTURED-LOCATION;VALUE=URI;X-ADDRESS=Massapequa High School 4925 Merrick Road Massapequa NY 11758 United States;X-APPLE-RADIUS=500;X-TITLE=4925 Merrick Road:geo:-73.4529382,40.6677993
END:VEVENT
BEGIN:VEVENT
DTSTART;TZID=UTC:20220430T093000
DTEND;TZID=UTC:20220430T113000
DTSTAMP:20260425T154042
CREATED:20220426T181737Z
LAST-MODIFIED:20220426T181737Z
UID:114617-1651311000-1651318200@www.liprc.org
SUMMARY:Shed the Meds (Manhasset)
DESCRIPTION:
URL:https://www.liprc.org/event/shed-the-meds-manhasset/
LOCATION:Shelter Rock Elementary School\, 27a Shelter Rock Rd\, Manhasset\, NY\, 11030\, United States
END:VEVENT
BEGIN:VEVENT
DTSTART;TZID=UTC:20220430T090000
DTEND;TZID=UTC:20220430T120000
DTSTAMP:20260425T154042
CREATED:20220426T182116Z
LAST-MODIFIED:20220426T182116Z
UID:114628-1651309200-1651320000@www.liprc.org
SUMMARY:Shed the Meds (Levittown)
DESCRIPTION:
URL:https://www.liprc.org/event/shed-the-meds-levittown/
LOCATION:Wisdom Lane Middle School\, 120 Wisdom Lane\, Levittown\, NY\, 11756
CATEGORIES:Nassau
END:VEVENT
BEGIN:VEVENT
DTSTART;TZID=UTC:20220429T183000
DTEND;TZID=UTC:20220429T193000
DTSTAMP:20260425T154042
CREATED:20220406T202839Z
LAST-MODIFIED:20220406T202839Z
UID:114563-1651257000-1651260600@www.liprc.org
SUMMARY:Being a Prevention Influencer: Making Prevention Obvious (Hybrid)
DESCRIPTION:Prevention Conference Flyer
URL:https://www.liprc.org/event/being-a-prevention-influencer-making-prevention-obvious-hybrid/2022-04-29/
CATEGORIES:Nassau,Suffolk
END:VEVENT
BEGIN:VEVENT
DTSTART;TZID=UTC:20220429T100000
DTEND;TZID=UTC:20220429T120000
DTSTAMP:20260425T154042
CREATED:20220426T182353Z
LAST-MODIFIED:20220426T182353Z
UID:114632-1651226400-1651233600@www.liprc.org
SUMMARY:Communication in Prevention (Training)
DESCRIPTION:
URL:https://www.liprc.org/event/communication-in-prevention-training/
LOCATION:Online
CATEGORIES:Nassau,Suffolk
END:VEVENT
BEGIN:VEVENT
DTSTART;TZID=UTC:20220428T173000
DTEND;TZID=UTC:20220428T183000
DTSTAMP:20260425T154042
CREATED:20220406T203145Z
LAST-MODIFIED:20220406T203145Z
UID:114568-1651167000-1651170600@www.liprc.org
SUMMARY:Rally for Recreation (In Person)
DESCRIPTION:Rally for Recreation Flyer
URL:https://www.liprc.org/event/rally-for-recreation-in-person/
CATEGORIES:Nassau,Suffolk
END:VEVENT
BEGIN:VEVENT
DTSTART;TZID=UTC:20220414T170000
DTEND;TZID=UTC:20220414T183000
DTSTAMP:20260425T154042
CREATED:20220408T172904Z
LAST-MODIFIED:20220408T173732Z
UID:114583-1649955600-1649961000@www.liprc.org
SUMMARY:Great South Bay Coalition Meeting
DESCRIPTION:IN PERSON. Contact greatsouthbaycoalition@gmail.com with questions.
URL:https://www.liprc.org/event/great-south-bay-coalition-meeting-29/
LOCATION:Sayville Library\, 88 Greene Ave\, NY\, 11782\, United States
CATEGORIES:Suffolk
END:VEVENT
BEGIN:VEVENT
DTSTART;TZID=UTC:20220414T143000
DTEND;TZID=UTC:20220414T163000
DTSTAMP:20260425T154042
CREATED:20220408T172414Z
LAST-MODIFIED:20220408T172414Z
UID:114581-1649946600-1649953800@www.liprc.org
SUMMARY:Riverhead Community Coalition for Safe & Drug Free Youth Coalition Meeting
DESCRIPTION:Please contact Kelly Miloski for zoom information at info@riverheadcap.org
URL:https://www.liprc.org/event/riverhead-community-coalition-for-safe-drug-free-youth-coalition-meeting-9/
LOCATION:Online
CATEGORIES:Suffolk
END:VEVENT
BEGIN:VEVENT
DTSTART;TZID=UTC:20220413T180000
DTEND;TZID=UTC:20220413T190000
DTSTAMP:20260425T154042
CREATED:20220408T173648Z
LAST-MODIFIED:20220408T173648Z
UID:114587-1649872800-1649876400@www.liprc.org
SUMMARY:SAFE in Sag Harbor Meeting
DESCRIPTION:Please contact Randy Hansen at coordinator@safeinsagharbor.org for attendance link.
URL:https://www.liprc.org/event/safe-in-sag-harbor-meeting/
CATEGORIES:Suffolk
END:VEVENT
BEGIN:VEVENT
DTSTART;TZID=UTC:20220412T100000
DTEND;TZID=UTC:20220412T113000
DTSTAMP:20260425T154042
CREATED:20220408T172251Z
LAST-MODIFIED:20220408T172251Z
UID:114579-1649757600-1649763000@www.liprc.org
SUMMARY:COMPASS Unity Coalition Meeting
DESCRIPTION:Please email Lynette Murphy for Zoom info at lmurphy@southcountry.org.
URL:https://www.liprc.org/event/compass-unity-coalition-meeting-14/
LOCATION:Online
CATEGORIES:Suffolk
END:VEVENT
BEGIN:VEVENT
DTSTART;TZID=UTC:20220408T110000
DTEND;TZID=UTC:20220408T123000
DTSTAMP:20260425T154042
CREATED:20220408T174228Z
LAST-MODIFIED:20220408T174228Z
UID:114591-1649415600-1649421000@www.liprc.org
SUMMARY:Hempstead Prevention Coalition Meeting
DESCRIPTION:Please email Thurston O’Neal at toneal@fcali.org for Zoom information
URL:https://www.liprc.org/event/hempstead-prevention-coalition-meeting-15/
LOCATION:Online
CATEGORIES:Nassau
END:VEVENT
BEGIN:VEVENT
DTSTART;TZID=UTC:20220406T143000
DTEND;TZID=UTC:20220406T160000
DTSTAMP:20260425T154042
CREATED:20220406T202410Z
LAST-MODIFIED:20220406T202410Z
UID:114561-1649255400-1649260800@www.liprc.org
SUMMARY:Farmingdale ADAPT Coalition Meeting
DESCRIPTION:Please email Julie Goble for log in details\, at gobleja@farmingdale.edu
URL:https://www.liprc.org/event/farmingdale-adapt-coalition-meeting-5/
LOCATION:Online
CATEGORIES:Nassau,Suffolk
END:VEVENT
END:VCALENDAR