BEGIN:VCALENDAR
VERSION:2.0
PRODID:-//PRC - ECPv6.15.13//NONSGML v1.0//EN
CALSCALE:GREGORIAN
METHOD:PUBLISH
X-WR-CALNAME:PRC
X-ORIGINAL-URL:https://www.liprc.org
X-WR-CALDESC:Events for PRC
REFRESH-INTERVAL;VALUE=DURATION:PT1H
X-Robots-Tag:noindex
X-PUBLISHED-TTL:PT1H
BEGIN:VTIMEZONE
TZID:UTC
BEGIN:STANDARD
TZOFFSETFROM:+0000
TZOFFSETTO:+0000
TZNAME:UTC
DTSTART:20210101T000000
END:STANDARD
END:VTIMEZONE
BEGIN:VEVENT
DTSTART;TZID=UTC:20220406T143000
DTEND;TZID=UTC:20220406T160000
DTSTAMP:20260425T192438
CREATED:20220406T202410Z
LAST-MODIFIED:20220406T202410Z
UID:114561-1649255400-1649260800@www.liprc.org
SUMMARY:Farmingdale ADAPT Coalition Meeting
DESCRIPTION:Please email Julie Goble for log in details\, at gobleja@farmingdale.edu
URL:https://www.liprc.org/event/farmingdale-adapt-coalition-meeting-5/
LOCATION:Online
CATEGORIES:Nassau,Suffolk
END:VEVENT
BEGIN:VEVENT
DTSTART;TZID=UTC:20220401T100000
DTEND;TZID=UTC:20220401T113000
DTSTAMP:20260425T192438
CREATED:20220406T202217Z
LAST-MODIFIED:20220406T202217Z
UID:114559-1648807200-1648812600@www.liprc.org
SUMMARY:Brentwood Community & SCCC Coalition Meeting
DESCRIPTION:Please email Kathleen Flynn- Bisson for sign in info at flynn@sunysuffolk.edu
URL:https://www.liprc.org/event/brentwood-community-sccc-coalition-meeting-5/
LOCATION:Online
END:VEVENT
BEGIN:VEVENT
DTSTART;TZID=UTC:20220330T130000
DTEND;TZID=UTC:20220330T150000
DTSTAMP:20260425T192438
CREATED:20220404T163252Z
LAST-MODIFIED:20220406T155526Z
UID:114504-1648645200-1648652400@www.liprc.org
SUMMARY:Strategic Prevention Framework Learning Collaborative (Virtual)
DESCRIPTION:Click below for full flyer including registration link: 2022 LIPRC Strategic Prevention Framework Learning Collaborative
URL:https://www.liprc.org/event/strategic-prevention-framework-learning-collaborative/2022-03-30/
CATEGORIES:Nassau,Suffolk
END:VEVENT
BEGIN:VEVENT
DTSTART;TZID=UTC:20220317T190000
DTEND;TZID=UTC:20220317T200000
DTSTAMP:20260425T192438
CREATED:20220303T184259Z
LAST-MODIFIED:20220303T184422Z
UID:114416-1647543600-1647547200@www.liprc.org
SUMMARY:Problem Gambling: What you need to know today (Levittown Community Action Coalition)
DESCRIPTION:  \nClick for flyer
URL:https://www.liprc.org/event/problem-gambling-what-you-need-to-know-today-levittown-community-action-coalition/
CATEGORIES:Nassau
END:VEVENT
BEGIN:VEVENT
DTSTART;TZID=UTC:20220309T190000
DTEND;TZID=UTC:20220309T203000
DTSTAMP:20260425T192438
CREATED:20220303T183906Z
LAST-MODIFIED:20220303T183906Z
UID:114413-1646852400-1646857800@www.liprc.org
SUMMARY:Vaping: The Continuing Epidemic Among Youth (Massapequa)
DESCRIPTION:  \nhttps://www.liprc.org/wp-content/uploads/2022/03/0001.jpg
URL:https://www.liprc.org/event/vaping-the-continuing-epidemic-among-youth-massapequa/
CATEGORIES:Nassau
END:VEVENT
BEGIN:VEVENT
DTSTART;TZID=UTC:20220303T170000
DTEND;TZID=UTC:20220303T210000
DTSTAMP:20260425T192438
CREATED:20220216T165538Z
LAST-MODIFIED:20220216T165538Z
UID:114385-1646326800-1646341200@www.liprc.org
SUMMARY:Youth Mental Health First Aid (Northport)
DESCRIPTION:Thursday\, March 3\n5:00 p.m. – 9:00 p.m.\nPrior course work is required\, as is advance registration. Please see the links below. \nThis program is co-sponsored by the Northport-East Northport Community Drug and Alcohol Task Force.\nFor Registration please click on this link:\nhttps://www.nenpl.org/events/youth-mental-health-first-aid-zoom \n2022 03-03 Youth Mental Health First Aid
URL:https://www.liprc.org/event/youth-mental-health-first-aid-northport/
LOCATION:Online
CATEGORIES:Nassau,Suffolk
END:VEVENT
BEGIN:VEVENT
DTSTART;TZID=UTC:20220222T180000
DTEND;TZID=UTC:20220222T193000
DTSTAMP:20260425T192438
CREATED:20220209T164728Z
LAST-MODIFIED:20220209T164728Z
UID:114366-1645552800-1645558200@www.liprc.org
SUMMARY:Office of Cannabis Management: Conversaciones del Cannabis en Español
DESCRIPTION:Register Here: https://www.eventbrite.com/e/office-of-cannabis-management-conversaciones-del-cannabis-en-espanol-tickets-251635156527?aff=ebdsoporgprofile
URL:https://www.liprc.org/event/office-of-cannabis-management-conversaciones-del-cannabis-en-espanol/
LOCATION:Online
CATEGORIES:Nassau,Suffolk
END:VEVENT
BEGIN:VEVENT
DTSTART;TZID=UTC:20220217T190000
DTEND;TZID=UTC:20220217T210000
DTSTAMP:20260425T192438
CREATED:20220209T163433Z
LAST-MODIFIED:20220209T163433Z
UID:114361-1645124400-1645131600@www.liprc.org
SUMMARY:Oceanside SAFE Coalition Meeting
DESCRIPTION:Please email Alison at info@oceansidesafe.org for log in information.
URL:https://www.liprc.org/event/oceanside-safe-coalition-meeting-15/
LOCATION:Online
CATEGORIES:Nassau
END:VEVENT
BEGIN:VEVENT
DTSTART;TZID=UTC:20220217T190000
DTEND;TZID=UTC:20220217T210000
DTSTAMP:20260425T192438
CREATED:20220209T153657Z
LAST-MODIFIED:20220209T153657Z
UID:114352-1645124400-1645131600@www.liprc.org
SUMMARY:Opiate Overdose Prevention Training (Levittown)
DESCRIPTION:
URL:https://www.liprc.org/event/opiate-overdose-prevention-training-levittown/
LOCATION:Online
CATEGORIES:Nassau,Suffolk
END:VEVENT
BEGIN:VEVENT
DTSTART;TZID=UTC:20220217T180000
DTEND;TZID=UTC:20220217T193000
DTSTAMP:20260425T192438
CREATED:20220209T164502Z
LAST-MODIFIED:20220209T164502Z
UID:114363-1645120800-1645126200@www.liprc.org
SUMMARY:Office of Cannabis Management Long Island Cannabis Conversation
DESCRIPTION:Register here: https://www.eventbrite.com/e/office-of-cannabis-management-cannabis-conversations-long-island-tickets-251626962017?aff=ebdsoporgprofile
URL:https://www.liprc.org/event/office-of-cannabis-management-long-island-cannabis-conversation/
LOCATION:Online
CATEGORIES:Nassau,Suffolk
END:VEVENT
BEGIN:VEVENT
DTSTART;TZID=UTC:20220215T190000
DTEND;TZID=UTC:20220215T210000
DTSTAMP:20260425T192438
CREATED:20220209T153100Z
LAST-MODIFIED:20220209T153100Z
UID:114347-1644951600-1644958800@www.liprc.org
SUMMARY:North Shore: Fentanyl Education for Parents
DESCRIPTION:
URL:https://www.liprc.org/event/north-shore-fentanyl-education-for-parents/
LOCATION:North Shore High School\, 450 Glen Cove Avenue\, Glen Head\, NY\, 11545\, United States
CATEGORIES:Nassau
END:VEVENT
BEGIN:VEVENT
DTSTART;TZID=UTC:20220215T110000
DTEND;TZID=UTC:20220215T123000
DTSTAMP:20260425T192438
CREATED:20220209T154622Z
LAST-MODIFIED:20220209T154622Z
UID:114356-1644922800-1644928200@www.liprc.org
SUMMARY:Roosevelt Prevention Coalition
DESCRIPTION:Please email Maritza Quintero MQuintero@fcali.org for the link.
URL:https://www.liprc.org/event/roosevelt-prevention-coalition-4/
LOCATION:Online
CATEGORIES:Nassau
END:VEVENT
BEGIN:VEVENT
DTSTART;TZID=UTC:20220210T143000
DTEND;TZID=UTC:20220210T160000
DTSTAMP:20260425T192438
CREATED:20220208T204511Z
LAST-MODIFIED:20220208T204511Z
UID:114316-1644503400-1644508800@www.liprc.org
SUMMARY:Riverhead Community Coalition for Safe & Drug Free Youth Coalition Meeting
DESCRIPTION:Please contact Kelly Miloski for zoom information at info@riverheadcap.org
URL:https://www.liprc.org/event/riverhead-community-coalition-for-safe-drug-free-youth-coalition-meeting-8/
LOCATION:Online
CATEGORIES:Nassau,Suffolk
END:VEVENT
BEGIN:VEVENT
DTSTART;TZID=UTC:20220209T190000
DTEND;TZID=UTC:20220209T210000
DTSTAMP:20260425T192438
CREATED:20220209T155824Z
LAST-MODIFIED:20220209T155824Z
UID:114358-1644433200-1644440400@www.liprc.org
SUMMARY:Oceanside SAFE Coalition Presents: High in Plain Sight with Tall Cop
DESCRIPTION:
URL:https://www.liprc.org/event/oceanside-safe-coalition-presents-high-in-plain-sight-with-tall-cop/
LOCATION:Online
CATEGORIES:Nassau,Suffolk
END:VEVENT
BEGIN:VEVENT
DTSTART;TZID=UTC:20220209T190000
DTEND;TZID=UTC:20220209T210000
DTSTAMP:20260425T192438
CREATED:20220209T152612Z
LAST-MODIFIED:20220209T152612Z
UID:114344-1644433200-1644440400@www.liprc.org
SUMMARY:Deer Park Drug Prevention Coalition: Babylon Township Opt In Discussion
DESCRIPTION:Please contact vstb1@optonline.net for log on details. Town Supervisor Rick Schaffer will be answering questions on the town’s decision to opt in on Adult Marijuana sales and consumption sites. \n  \n 
URL:https://www.liprc.org/event/deer-park-drug-prevention-coalition-babylon-township-opt-in-discussion/
LOCATION:Online
CATEGORIES:Suffolk
END:VEVENT
BEGIN:VEVENT
DTSTART;TZID=UTC:20220209T190000
DTEND;TZID=UTC:20220209T210000
DTSTAMP:20260425T192438
CREATED:20220208T213256Z
LAST-MODIFIED:20220208T213256Z
UID:114320-1644433200-1644440400@www.liprc.org
SUMMARY:Massapequa Takes Action General Meeting
DESCRIPTION:Please email info@mtacoalition.com for log in information
URL:https://www.liprc.org/event/massapequa-takes-action-general-meeting-5/
LOCATION:Online
CATEGORIES:Nassau
END:VEVENT
BEGIN:VEVENT
DTSTART;TZID=UTC:20220209T190000
DTEND;TZID=UTC:20220209T203000
DTSTAMP:20260425T192438
CREATED:20220204T200206Z
LAST-MODIFIED:20220204T200206Z
UID:114312-1644433200-1644438600@www.liprc.org
SUMMARY:Northport-East Northport Community Drug & Alcohol Task Force Meeting
DESCRIPTION:Please email Info@NDATF.org for log in information. \nSAVE THE DATE
URL:https://www.liprc.org/event/northport-east-northport-community-drug-alcohol-task-force-meeting-11/
LOCATION:Online
CATEGORIES:Suffolk
END:VEVENT
BEGIN:VEVENT
DTSTART;TZID=UTC:20220209T113000
DTEND;TZID=UTC:20220209T130000
DTSTAMP:20260425T192438
CREATED:20220209T165024Z
LAST-MODIFIED:20220209T165024Z
UID:114369-1644406200-1644411600@www.liprc.org
SUMMARY:Identifying Unconscious Bias and Increasing Cultural Humility
DESCRIPTION:Register here: https://rutgers.zoom.us/meeting/register/tJIlceytqDwpH9RrYlyGR3ItSJqR9LMPCD6U
URL:https://www.liprc.org/event/identifying-unconscious-bias-and-increasing-cultural-humility/
LOCATION:Online
CATEGORIES:Nassau,Suffolk
END:VEVENT
BEGIN:VEVENT
DTSTART;TZID=UTC:20220208T100000
DTEND;TZID=UTC:20220208T113000
DTSTAMP:20260425T192438
CREATED:20220204T195609Z
LAST-MODIFIED:20220204T195609Z
UID:114306-1644314400-1644319800@www.liprc.org
SUMMARY:COMPASS Unity Coalition Meeting
DESCRIPTION:Please email Lynette Murphy for Zoom info at lmurphy@southcountry.org.
URL:https://www.liprc.org/event/compass-unity-coalition-meeting-13/
LOCATION:Online
CATEGORIES:Nassau,Suffolk
END:VEVENT
BEGIN:VEVENT
DTSTART;TZID=UTC:20220207T190000
DTEND;TZID=UTC:20220207T200000
DTSTAMP:20260425T192438
CREATED:20220204T195853Z
LAST-MODIFIED:20220204T195853Z
UID:114310-1644260400-1644264000@www.liprc.org
SUMMARY:Rockville Center Coalition for Youth
DESCRIPTION:Please email Ruthanne McCormack at ramccormack3@gmail.com for log in details
URL:https://www.liprc.org/event/rockville-center-coalition-for-youth-3/
LOCATION:Online
CATEGORIES:Nassau
END:VEVENT
BEGIN:VEVENT
DTSTART;TZID=UTC:20220204T110000
DTEND;TZID=UTC:20220204T123000
DTSTAMP:20260425T192438
CREATED:20220208T212833Z
LAST-MODIFIED:20220208T212833Z
UID:114318-1643972400-1643977800@www.liprc.org
SUMMARY:Hempstead Prevention Coalition Meeting
DESCRIPTION:Please email Thurston O’Neal at toneal@fcali.org for Zoom information
URL:https://www.liprc.org/event/hempstead-prevention-coalition-meeting-14/
LOCATION:Online
END:VEVENT
BEGIN:VEVENT
DTSTART;TZID=UTC:20220204T100000
DTEND;TZID=UTC:20220204T113000
DTSTAMP:20260425T192438
CREATED:20220204T195735Z
LAST-MODIFIED:20220204T195735Z
UID:114308-1643968800-1643974200@www.liprc.org
SUMMARY:Brentwood Community & SCCC Coalition Meeting
DESCRIPTION:Please email Kathleen Flynn- Bisson for sign in info at flynn@sunysuffolk.edu
URL:https://www.liprc.org/event/brentwood-community-sccc-coalition-meeting-4/
LOCATION:Online
CATEGORIES:Suffolk
END:VEVENT
BEGIN:VEVENT
DTSTART;TZID=UTC:20220203T160000
DTEND;TZID=UTC:20220203T170000
DTSTAMP:20260425T192438
CREATED:20220208T213941Z
LAST-MODIFIED:20220208T214130Z
UID:114322-1643904000-1643907600@www.liprc.org
SUMMARY:Prevention Matters NY Call
DESCRIPTION:Email Kym Laube to be added to the email list: kym@hugsinc.org
URL:https://www.liprc.org/event/prevention-matters-ny-call/2022-02-03/
LOCATION:Online
END:VEVENT
BEGIN:VEVENT
DTSTART;TZID=UTC:20220125T153000
DTEND;TZID=UTC:20220125T183000
DTSTAMP:20260425T192438
CREATED:20220112T163049Z
LAST-MODIFIED:20220112T163059Z
UID:114222-1643124600-1643135400@www.liprc.org
SUMMARY:Medication Collection Event (Northport)
DESCRIPTION:Date/Time: Tuesday\, January 25th 2022 from 3:30pm – 6:30pm \nLocation: Northport Public Library\, 151 Laurel Ave NPT\, NY 11768\nEast Northport Public Library\, 185 Larkfield Rd ENPT\, NY 11731 \nThe public libraries in the Town of Huntington have partnered with Northport Police Department\, Suffolk County Police Department\, and Suffolk County Sheriff’s Office to collect unused or expired prescription and over-the-counter medications. Proper disposal of these items is essential for risk reduction and environmental protection. No questions asked and no personal information is required. *All medications must be in plastic ziplock bags before arrival or the will not be accepted.*
URL:https://www.liprc.org/event/medication-collection-event-northport/
CATEGORIES:Nassau,Suffolk
END:VEVENT
BEGIN:VEVENT
DTSTART;TZID=UTC:20220120T190000
DTEND;TZID=UTC:20220120T200000
DTSTAMP:20260425T192438
CREATED:20220111T154319Z
LAST-MODIFIED:20220111T154319Z
UID:114206-1642705200-1642708800@www.liprc.org
SUMMARY:Oceanside SAFE Coalition Meeting
DESCRIPTION:Please email Alison at info@oceansidesafe.org for log in information.
URL:https://www.liprc.org/event/oceanside-safe-coalition-meeting-14/
CATEGORIES:Nassau
END:VEVENT
BEGIN:VEVENT
DTSTART;TZID=UTC:20220120T160000
DTEND;TZID=UTC:20220120T170000
DTSTAMP:20260425T192438
CREATED:20220111T153410Z
LAST-MODIFIED:20220111T153410Z
UID:114196-1642694400-1642698000@www.liprc.org
SUMMARY:Prevention Matters Call New York
DESCRIPTION:Email Kym Laube to be added to the email list: kym@hugsinc.org
URL:https://www.liprc.org/event/prevention-matters-call-new-york/
CATEGORIES:Nassau,Suffolk
END:VEVENT
BEGIN:VEVENT
DTSTART;TZID=UTC:20220119T160000
DTEND;TZID=UTC:20220119T170000
DTSTAMP:20260425T192438
CREATED:20220111T153240Z
LAST-MODIFIED:20220111T153240Z
UID:114194-1642608000-1642611600@www.liprc.org
SUMMARY:Great South Bay Coalition Meeting
DESCRIPTION:Contact greatsouthbaycoalition@gmail.com for zoom information
URL:https://www.liprc.org/event/great-south-bay-coalition-meeting-28/
CATEGORIES:Suffolk
END:VEVENT
BEGIN:VEVENT
DTSTART;TZID=UTC:20220118T191500
DTEND;TZID=UTC:20220118T210000
DTSTAMP:20260425T192438
CREATED:20220111T154218Z
LAST-MODIFIED:20220111T154218Z
UID:114204-1642533300-1642539600@www.liprc.org
SUMMARY:Five Towns Saves Lives General Meeting
DESCRIPTION:  \n\n\n\n\n\nPlease email Susan Blauner at susan.blauner@guraljcc.org for Zoom information
URL:https://www.liprc.org/event/five-towns-saves-lives-general-meeting-2/
CATEGORIES:Nassau
END:VEVENT
BEGIN:VEVENT
DTSTART;TZID=UTC:20220118T110000
DTEND;TZID=UTC:20220118T120000
DTSTAMP:20260425T192438
CREATED:20220111T154051Z
LAST-MODIFIED:20220111T154051Z
UID:114202-1642503600-1642507200@www.liprc.org
SUMMARY:Roosevelt Prevention Coalition
DESCRIPTION:Please email Maritza Quintero MQuintero@fcali.org for the link.
URL:https://www.liprc.org/event/roosevelt-prevention-coalition-3/
CATEGORIES:Nassau
END:VEVENT
BEGIN:VEVENT
DTSTART;TZID=UTC:20220113T143000
DTEND;TZID=UTC:20220113T153000
DTSTAMP:20260425T192438
CREATED:20220111T153108Z
LAST-MODIFIED:20220111T153108Z
UID:114192-1642084200-1642087800@www.liprc.org
SUMMARY:Riverhead Community Coalition for Safe & Drug Free Youth Coalition Meeting
DESCRIPTION:Please contact Kelly Miloski for zoom information at info@riverheadcap.org
URL:https://www.liprc.org/event/riverhead-community-coalition-for-safe-drug-free-youth-coalition-meeting-7/
CATEGORIES:Suffolk
END:VEVENT
END:VCALENDAR