BEGIN:VCALENDAR
VERSION:2.0
PRODID:-//PRC - ECPv6.15.13//NONSGML v1.0//EN
CALSCALE:GREGORIAN
METHOD:PUBLISH
X-ORIGINAL-URL:https://www.liprc.org
X-WR-CALDESC:Events for PRC
REFRESH-INTERVAL;VALUE=DURATION:PT1H
X-Robots-Tag:noindex
X-PUBLISHED-TTL:PT1H
BEGIN:VTIMEZONE
TZID:UTC
BEGIN:STANDARD
TZOFFSETFROM:+0000
TZOFFSETTO:+0000
TZNAME:UTC
DTSTART:20200101T000000
END:STANDARD
END:VTIMEZONE
BEGIN:VEVENT
DTSTART;TZID=UTC:20220204T110000
DTEND;TZID=UTC:20220204T123000
DTSTAMP:20260425T220304
CREATED:20220208T212833Z
LAST-MODIFIED:20220208T212833Z
UID:114318-1643972400-1643977800@www.liprc.org
SUMMARY:Hempstead Prevention Coalition Meeting
DESCRIPTION:Please email Thurston O’Neal at toneal@fcali.org for Zoom information
URL:https://www.liprc.org/event/hempstead-prevention-coalition-meeting-14/
LOCATION:Online
END:VEVENT
BEGIN:VEVENT
DTSTART;TZID=UTC:20220204T100000
DTEND;TZID=UTC:20220204T113000
DTSTAMP:20260425T220304
CREATED:20220204T195735Z
LAST-MODIFIED:20220204T195735Z
UID:114308-1643968800-1643974200@www.liprc.org
SUMMARY:Brentwood Community & SCCC Coalition Meeting
DESCRIPTION:Please email Kathleen Flynn- Bisson for sign in info at flynn@sunysuffolk.edu
URL:https://www.liprc.org/event/brentwood-community-sccc-coalition-meeting-4/
LOCATION:Online
CATEGORIES:Suffolk
END:VEVENT
BEGIN:VEVENT
DTSTART;TZID=UTC:20220203T160000
DTEND;TZID=UTC:20220203T170000
DTSTAMP:20260425T220304
CREATED:20220208T213941Z
LAST-MODIFIED:20220208T214130Z
UID:114322-1643904000-1643907600@www.liprc.org
SUMMARY:Prevention Matters NY Call
DESCRIPTION:Email Kym Laube to be added to the email list: kym@hugsinc.org
URL:https://www.liprc.org/event/prevention-matters-ny-call/2022-02-03/
LOCATION:Online
END:VEVENT
BEGIN:VEVENT
DTSTART;TZID=UTC:20220125T153000
DTEND;TZID=UTC:20220125T183000
DTSTAMP:20260425T220304
CREATED:20220112T163049Z
LAST-MODIFIED:20220112T163059Z
UID:114222-1643124600-1643135400@www.liprc.org
SUMMARY:Medication Collection Event (Northport)
DESCRIPTION:Date/Time: Tuesday\, January 25th 2022 from 3:30pm – 6:30pm \nLocation: Northport Public Library\, 151 Laurel Ave NPT\, NY 11768\nEast Northport Public Library\, 185 Larkfield Rd ENPT\, NY 11731 \nThe public libraries in the Town of Huntington have partnered with Northport Police Department\, Suffolk County Police Department\, and Suffolk County Sheriff’s Office to collect unused or expired prescription and over-the-counter medications. Proper disposal of these items is essential for risk reduction and environmental protection. No questions asked and no personal information is required. *All medications must be in plastic ziplock bags before arrival or the will not be accepted.*
URL:https://www.liprc.org/event/medication-collection-event-northport/
CATEGORIES:Nassau,Suffolk
END:VEVENT
BEGIN:VEVENT
DTSTART;TZID=UTC:20220120T190000
DTEND;TZID=UTC:20220120T200000
DTSTAMP:20260425T220304
CREATED:20220111T154319Z
LAST-MODIFIED:20220111T154319Z
UID:114206-1642705200-1642708800@www.liprc.org
SUMMARY:Oceanside SAFE Coalition Meeting
DESCRIPTION:Please email Alison at info@oceansidesafe.org for log in information.
URL:https://www.liprc.org/event/oceanside-safe-coalition-meeting-14/
CATEGORIES:Nassau
END:VEVENT
BEGIN:VEVENT
DTSTART;TZID=UTC:20220120T160000
DTEND;TZID=UTC:20220120T170000
DTSTAMP:20260425T220304
CREATED:20220111T153410Z
LAST-MODIFIED:20220111T153410Z
UID:114196-1642694400-1642698000@www.liprc.org
SUMMARY:Prevention Matters Call New York
DESCRIPTION:Email Kym Laube to be added to the email list: kym@hugsinc.org
URL:https://www.liprc.org/event/prevention-matters-call-new-york/
CATEGORIES:Nassau,Suffolk
END:VEVENT
BEGIN:VEVENT
DTSTART;TZID=UTC:20220119T160000
DTEND;TZID=UTC:20220119T170000
DTSTAMP:20260425T220304
CREATED:20220111T153240Z
LAST-MODIFIED:20220111T153240Z
UID:114194-1642608000-1642611600@www.liprc.org
SUMMARY:Great South Bay Coalition Meeting
DESCRIPTION:Contact greatsouthbaycoalition@gmail.com for zoom information
URL:https://www.liprc.org/event/great-south-bay-coalition-meeting-28/
CATEGORIES:Suffolk
END:VEVENT
BEGIN:VEVENT
DTSTART;TZID=UTC:20220118T191500
DTEND;TZID=UTC:20220118T210000
DTSTAMP:20260425T220304
CREATED:20220111T154218Z
LAST-MODIFIED:20220111T154218Z
UID:114204-1642533300-1642539600@www.liprc.org
SUMMARY:Five Towns Saves Lives General Meeting
DESCRIPTION:  \n\n\n\n\n\nPlease email Susan Blauner at susan.blauner@guraljcc.org for Zoom information
URL:https://www.liprc.org/event/five-towns-saves-lives-general-meeting-2/
CATEGORIES:Nassau
END:VEVENT
BEGIN:VEVENT
DTSTART;TZID=UTC:20220118T110000
DTEND;TZID=UTC:20220118T120000
DTSTAMP:20260425T220304
CREATED:20220111T154051Z
LAST-MODIFIED:20220111T154051Z
UID:114202-1642503600-1642507200@www.liprc.org
SUMMARY:Roosevelt Prevention Coalition
DESCRIPTION:Please email Maritza Quintero MQuintero@fcali.org for the link.
URL:https://www.liprc.org/event/roosevelt-prevention-coalition-3/
CATEGORIES:Nassau
END:VEVENT
BEGIN:VEVENT
DTSTART;TZID=UTC:20220113T143000
DTEND;TZID=UTC:20220113T153000
DTSTAMP:20260425T220304
CREATED:20220111T153108Z
LAST-MODIFIED:20220111T153108Z
UID:114192-1642084200-1642087800@www.liprc.org
SUMMARY:Riverhead Community Coalition for Safe & Drug Free Youth Coalition Meeting
DESCRIPTION:Please contact Kelly Miloski for zoom information at info@riverheadcap.org
URL:https://www.liprc.org/event/riverhead-community-coalition-for-safe-drug-free-youth-coalition-meeting-7/
CATEGORIES:Suffolk
END:VEVENT
BEGIN:VEVENT
DTSTART;TZID=UTC:20220113T140000
DTEND;TZID=UTC:20220113T150000
DTSTAMP:20260425T220304
CREATED:20220111T153843Z
LAST-MODIFIED:20220111T153843Z
UID:114200-1642082400-1642086000@www.liprc.org
SUMMARY:Heroin Prevention Task Force
DESCRIPTION:Please email Rene Fiechter at Rene.Fiechter@nassauda.org for Zoom log in information
URL:https://www.liprc.org/event/heroin-prevention-task-force-8/
CATEGORIES:Nassau
END:VEVENT
BEGIN:VEVENT
DTSTART;TZID=UTC:20220112T190000
DTEND;TZID=UTC:20220112T203000
DTSTAMP:20260425T220304
CREATED:20220111T152922Z
LAST-MODIFIED:20220111T152922Z
UID:114190-1642014000-1642019400@www.liprc.org
SUMMARY:Northport-East Northport Community Drug & Alcohol Task Force Meeting
DESCRIPTION:Please email Info@NDATF.org for log in information
URL:https://www.liprc.org/event/northport-east-northport-community-drug-alcohol-task-force-meeting-10/
CATEGORIES:Suffolk
END:VEVENT
BEGIN:VEVENT
DTSTART;TZID=UTC:20220112T190000
DTEND;TZID=UTC:20220112T190000
DTSTAMP:20260425T220304
CREATED:20220105T165200Z
LAST-MODIFIED:20220105T165200Z
UID:114125-1642014000-1642014000@www.liprc.org
SUMMARY:Healthy Distractions: Avoiding Substance Misuse Through Positive Choices and Fun Hobbies
DESCRIPTION:
URL:https://www.liprc.org/event/healthy-distractions-avoiding-substance-misuse-through-positive-choices-and-fun-hobbies/
CATEGORIES:Suffolk
END:VEVENT
BEGIN:VEVENT
DTSTART;TZID=UTC:20220111T180000
DTEND;TZID=UTC:20220111T193000
DTSTAMP:20260425T220304
CREATED:20220111T152738Z
LAST-MODIFIED:20220111T152749Z
UID:114187-1641924000-1641929400@www.liprc.org
SUMMARY:SAFE In Sag Harbor Meeting
DESCRIPTION:Please email Randy Hansen at coordinator@safeinsagharbor.org for zoom details.
URL:https://www.liprc.org/event/safe-in-sag-harbor-sector-meeting-2/
CATEGORIES:Suffolk
END:VEVENT
BEGIN:VEVENT
DTSTART;TZID=UTC:20220111T100000
DTEND;TZID=UTC:20220111T113000
DTSTAMP:20260425T220304
CREATED:20220111T152314Z
LAST-MODIFIED:20220111T152314Z
UID:114185-1641895200-1641900600@www.liprc.org
SUMMARY:COMPASS UNITY Coalition Meeting
DESCRIPTION:Please email Lynette Murphy for Zoom info at lmurphy@southcountry.org.
URL:https://www.liprc.org/event/compass-unity-coalition-meeting-12/
CATEGORIES:Suffolk
END:VEVENT
BEGIN:VEVENT
DTSTART;TZID=UTC:20220110T190000
DTEND;TZID=UTC:20220110T200000
DTSTAMP:20260425T220304
CREATED:20220111T153726Z
LAST-MODIFIED:20220111T153726Z
UID:114198-1641841200-1641844800@www.liprc.org
SUMMARY:Rockville Center Coalition for Youth
DESCRIPTION:Please email Ruthanne McCormack at ramccormack3@gmail.com for log in details
URL:https://www.liprc.org/event/rockville-center-coalition-for-youth-2/
CATEGORIES:Nassau
END:VEVENT
BEGIN:VEVENT
DTSTART;TZID=UTC:20220107T110000
DTEND;TZID=UTC:20220107T123000
DTSTAMP:20260425T220304
CREATED:20220111T152118Z
LAST-MODIFIED:20220111T152118Z
UID:114183-1641553200-1641558600@www.liprc.org
SUMMARY:Hempstead Prevention Coalition Meeting
DESCRIPTION:Please email Thurston O’Neal at toneal@fcali.org for Zoom information
URL:https://www.liprc.org/event/hempstead-prevention-coalition-meeting-13/
CATEGORIES:Nassau
END:VEVENT
BEGIN:VEVENT
DTSTART;TZID=UTC:20220107T100000
DTEND;TZID=UTC:20220107T113000
DTSTAMP:20260425T220304
CREATED:20220111T151952Z
LAST-MODIFIED:20220111T151952Z
UID:114181-1641549600-1641555000@www.liprc.org
SUMMARY:Brentwood Community & SCCC Coalition Meeting
DESCRIPTION:Please email Kathleen Flynn- Bisson for sign in info at flynn@sunysuffolk.edu
URL:https://www.liprc.org/event/brentwood-community-sccc-coalition-meeting-3/
CATEGORIES:Suffolk
END:VEVENT
BEGIN:VEVENT
DTSTART;TZID=UTC:20211216T190000
DTEND;TZID=UTC:20211216T200000
DTSTAMP:20260425T220304
CREATED:20211209T154006Z
LAST-MODIFIED:20211209T154006Z
UID:114049-1639681200-1639684800@www.liprc.org
SUMMARY:Oceanside SAFE Coalition Meeting
DESCRIPTION:Please email Alison at info@oceansidesafe.org for log in information.
URL:https://www.liprc.org/event/oceanside-safe-coalition-meeting-13/
LOCATION:Online
CATEGORIES:Nassau,Suffolk
END:VEVENT
BEGIN:VEVENT
DTSTART;TZID=UTC:20211215T160000
DTEND;TZID=UTC:20211215T170000
DTSTAMP:20260425T220304
CREATED:20211209T160747Z
LAST-MODIFIED:20211209T161131Z
UID:114054-1639584000-1639587600@www.liprc.org
SUMMARY:Great South Bay Coalition Meeting
DESCRIPTION:Please email Barbara Vouris for log in details: bvouris@yesnews.net  \n 
URL:https://www.liprc.org/event/114054/
LOCATION:Online
CATEGORIES:Suffolk
END:VEVENT
BEGIN:VEVENT
DTSTART;TZID=UTC:20211214T180000
DTEND;TZID=UTC:20211214T180000
DTSTAMP:20260425T220304
CREATED:20211203T163242Z
LAST-MODIFIED:20211203T163242Z
UID:114017-1639504800-1639504800@www.liprc.org
SUMMARY:Village of Sag Harbor Board Meeting: Opt Out Hearing
DESCRIPTION:Date/Time: December 14th – 6 PM\nLocation: Fire Headquarters\n1357 Brick Kiln Rd\, Sag Harbor
URL:https://www.liprc.org/event/village-of-sag-harbor-board-meeting-opt-out-hearing/
CATEGORIES:Suffolk
END:VEVENT
BEGIN:VEVENT
DTSTART;TZID=UTC:20211214T110000
DTEND;TZID=UTC:20211214T120000
DTSTAMP:20260425T220304
CREATED:20211209T151225Z
LAST-MODIFIED:20211209T151225Z
UID:114045-1639479600-1639483200@www.liprc.org
SUMMARY:Roosevelt Prevention Coalition Meeting
DESCRIPTION:Please email Maritza Quintero MQuintero@fcali.org for the link.
URL:https://www.liprc.org/event/roosevelt-prevention-coalition-meeting/
LOCATION:Online
CATEGORIES:Nassau
END:VEVENT
BEGIN:VEVENT
DTSTART;TZID=UTC:20211214T100000
DTEND;TZID=UTC:20211214T113000
DTSTAMP:20260425T220304
CREATED:20211209T160003Z
LAST-MODIFIED:20211209T160003Z
UID:114051-1639476000-1639481400@www.liprc.org
SUMMARY:COMPASS UNITY Coalition Meeting
DESCRIPTION:Please email Lynette Murphy for Zoom info at lmurphy@southcountry.org.
URL:https://www.liprc.org/event/compass-unity-coalition-meeting-11/
LOCATION:Online
CATEGORIES:Suffolk
END:VEVENT
BEGIN:VEVENT
DTSTART;TZID=UTC:20211210T110000
DTEND;TZID=UTC:20211210T120000
DTSTAMP:20260425T220304
CREATED:20211209T151048Z
LAST-MODIFIED:20211209T151048Z
UID:114043-1639134000-1639137600@www.liprc.org
SUMMARY:Hempstead Prevention Coalition Meeting
DESCRIPTION:Please email Thurston O’Neal at toneal@fcali.org for Zoom information
URL:https://www.liprc.org/event/hempstead-prevention-coalition-meeting-12/
LOCATION:Online
CATEGORIES:Nassau
END:VEVENT
BEGIN:VEVENT
DTSTART;TZID=UTC:20211209T190000
DTEND;TZID=UTC:20211209T203000
DTSTAMP:20260425T220304
CREATED:20211209T150058Z
LAST-MODIFIED:20211209T150058Z
UID:114037-1639076400-1639081800@www.liprc.org
SUMMARY:Levittown Community Action Coalition Town Hall
DESCRIPTION:
URL:https://www.liprc.org/event/levittown-community-action-coalition-town-hall/
LOCATION:Island Tree Public Library\, 38 Farmedge Rd\, Levittown\, New York\, 11756
CATEGORIES:Nassau
END:VEVENT
BEGIN:VEVENT
DTSTART;TZID=UTC:20211209T143000
DTEND;TZID=UTC:20211209T160000
DTSTAMP:20260425T220304
CREATED:20211203T202231Z
LAST-MODIFIED:20211203T202231Z
UID:114027-1639060200-1639065600@www.liprc.org
SUMMARY:Riverhead Community Coalition for Safe & Drug Free Youth Coalition Meeting
DESCRIPTION:Please contact Kelly Miloski for zoom information at info@riverheadcap.org
URL:https://www.liprc.org/event/riverhead-community-coalition-for-safe-drug-free-youth-coalition-meeting-6/
CATEGORIES:Suffolk
END:VEVENT
BEGIN:VEVENT
DTSTART;TZID=UTC:20211209T123000
DTEND;TZID=UTC:20211209T131500
DTSTAMP:20260425T220304
CREATED:20211207T213215Z
LAST-MODIFIED:20211207T213215Z
UID:114034-1639053000-1639055700@www.liprc.org
SUMMARY:Vaping: Know the Truth – Empowering Students with the Facts on E-cigarettes & Tools to Quit
DESCRIPTION:Join Truth Initiative for a virtual discussion about how educators can empower students with the facts on the health risks of e-cigarettes and nicotine use\, and help those who are already vaping to quit. This Truth Initiative Impact Series will spotlight Vaping: Know the truth\, the free\, national youth vaping prevention curriculum made available to schools nationwide to help combat the youth e-cigarette epidemic. \nhttps://truthinitiative.org/vaping-know-truth-empowering-students
URL:https://www.liprc.org/event/vaping-know-the-truth-empowering-students-with-the-facts-on-e-cigarettes-tools-to-quit/
LOCATION:Online
CATEGORIES:Nassau,Suffolk
END:VEVENT
BEGIN:VEVENT
DTSTART;TZID=UTC:20211208T190000
DTEND;TZID=UTC:20211208T200000
DTSTAMP:20260425T220304
CREATED:20211209T150224Z
LAST-MODIFIED:20211209T150224Z
UID:114041-1638990000-1638993600@www.liprc.org
SUMMARY:Massapequa Takes Action General Meeting
DESCRIPTION:Please email info@mtacoalition.com for log in information
URL:https://www.liprc.org/event/massapequa-takes-action-general-meeting-4/
LOCATION:Online
CATEGORIES:Nassau
END:VEVENT
BEGIN:VEVENT
DTSTART;TZID=UTC:20211208T190000
DTEND;TZID=UTC:20211208T200000
DTSTAMP:20260425T220304
CREATED:20211203T201840Z
LAST-MODIFIED:20211203T201840Z
UID:114023-1638990000-1638993600@www.liprc.org
SUMMARY:Deer Park Drug Prevention Coalition Meeting
DESCRIPTION:
URL:https://www.liprc.org/event/deer-park-drug-prevention-coalition-meeting-2/
LOCATION:Online
CATEGORIES:Suffolk
END:VEVENT
BEGIN:VEVENT
DTSTART;TZID=UTC:20211207T103000
DTEND;TZID=UTC:20211207T103000
DTSTAMP:20260425T220304
CREATED:20211203T162927Z
LAST-MODIFIED:20211203T162927Z
UID:114015-1638873000-1638873000@www.liprc.org
SUMMARY:Hempstead Town Board: Opt Out Hearing
DESCRIPTION:Date/Time: December 7th – 10:30 AM\nLocation: Hempstead Town Hall\n1 Washington St\, Hempstead NY
URL:https://www.liprc.org/event/hempstead-town-board-opt-out-hearing/
CATEGORIES:Nassau
END:VEVENT
END:VCALENDAR