BEGIN:VCALENDAR
VERSION:2.0
PRODID:-//PRC - ECPv6.15.13//NONSGML v1.0//EN
CALSCALE:GREGORIAN
METHOD:PUBLISH
X-WR-CALNAME:PRC
X-ORIGINAL-URL:https://www.liprc.org
X-WR-CALDESC:Events for PRC
REFRESH-INTERVAL;VALUE=DURATION:PT1H
X-Robots-Tag:noindex
X-PUBLISHED-TTL:PT1H
BEGIN:VTIMEZONE
TZID:UTC
BEGIN:STANDARD
TZOFFSETFROM:+0000
TZOFFSETTO:+0000
TZNAME:UTC
DTSTART:20200101T000000
END:STANDARD
END:VTIMEZONE
BEGIN:VEVENT
DTSTART;TZID=UTC:20211207T100000
DTEND;TZID=UTC:20211207T100000
DTSTAMP:20260426T013855
CREATED:20211203T162536Z
LAST-MODIFIED:20211203T162536Z
UID:114013-1638871200-1638871200@www.liprc.org
SUMMARY:Oyster Bay Town Board: Opt Out Hearing
DESCRIPTION:Date/Time: Tuesday December 7th – 10 AM\nLocation: Town Board Hearing Room\, Town Hall North\n54 Audrey Avenue\, Oyster Bay NY \n  \n 
URL:https://www.liprc.org/event/oyster-bay-town-board-opt-out-hearing/
CATEGORIES:Nassau
END:VEVENT
BEGIN:VEVENT
DTSTART;TZID=UTC:20211206T100000
DTEND;TZID=UTC:20211206T120000
DTSTAMP:20260426T013855
CREATED:20211203T202546Z
LAST-MODIFIED:20211203T202546Z
UID:114031-1638784800-1638792000@www.liprc.org
SUMMARY:Adolescents: Developmental Issues and Behavior (webinar)
DESCRIPTION:Working with youth in any discipline is understandably challenging when you consider this population’s consistently evolving and malleable cognitive process. This interactive 2-hour webinar will incorporate an ecological perspective in understanding dynamics that may form the adolescent ‘worldview.’ Neurological functions that form emotional context and influencing factors that premediate behavior will be discussed. The content will also include strategies to help engage and support healthy development using effective approaches and interventions in health care\, behavioral health\, or school settings. \nhttps://pttcnetwork.org/centers/northeast-caribbean-pttc/event/adolescents-developmental-issues-and-behavior
URL:https://www.liprc.org/event/adolescents-developmental-issues-and-behavior-webinar/
LOCATION:Online
CATEGORIES:Nassau,Suffolk
END:VEVENT
BEGIN:VEVENT
DTSTART;TZID=UTC:20211206T100000
DTEND;TZID=UTC:20211206T113000
DTSTAMP:20260426T013855
CREATED:20211203T202415Z
LAST-MODIFIED:20211203T202415Z
UID:114029-1638784800-1638790200@www.liprc.org
SUMMARY:Vapeo\, reducción de daños o complicaciones de salud a corto y largo plazo (Spanish Language Webinar)
DESCRIPTION:December 6th 10am E \n\nDefinir conceptos medulares relacionados al uso de cigarrillos electrónicos.\nDiscutir tendencias relacionadas al uso de cigarrillos electrónicos en adolescentes y jóvenes adultos.\nComprender las repercusiones a la salud relacionadas a compuestos químicos presentes en los cigarrillos electrónicos.\nIdentificar áreas de oportunidad para minimizar el incremento en uso de cigarrillos electrónicos\nDesarrollar estrategias de prevención en el uso de “vaping” y marihuana en adolescents\n\nhttps://attcnetwork.org/centers/northeast-caribbean-attc/event/vapeo-reduccion-de-danos-o-complicaciones-de-salud-corto-y-1 \n 
URL:https://www.liprc.org/event/vapeo-reduccion-de-danos-o-complicaciones-de-salud-a-corto-y-largo-plazo-spanish-language-webinar/
LOCATION:Online
CATEGORIES:Nassau,Suffolk
END:VEVENT
BEGIN:VEVENT
DTSTART;TZID=UTC:20211203T100000
DTEND;TZID=UTC:20211203T113000
DTSTAMP:20260426T013855
CREATED:20211203T201956Z
LAST-MODIFIED:20211203T201956Z
UID:114025-1638525600-1638531000@www.liprc.org
SUMMARY:Brentwood Community & SCCC Coalition Meeting
DESCRIPTION:Please email Kathleen Flynn- Bisson for sign in info at flynn@sunysuffolk.edu
URL:https://www.liprc.org/event/brentwood-community-sccc-coalition-meeting-2/
LOCATION:Online
CATEGORIES:Suffolk
END:VEVENT
BEGIN:VEVENT
DTSTART;TZID=UTC:20211202T160000
DTEND;TZID=UTC:20211202T170000
DTSTAMP:20260426T013855
CREATED:20211209T161659Z
LAST-MODIFIED:20211209T161659Z
UID:114061-1638460800-1638464400@www.liprc.org
SUMMARY:Prevention Matter New York
DESCRIPTION:Email Kym Laube to be added to the email list: kym@hugsinc.org
URL:https://www.liprc.org/event/prevention-matter-new-york/2021-12-02/
CATEGORIES:Nassau,Suffolk
END:VEVENT
BEGIN:VEVENT
DTSTART;TZID=UTC:20211118T190000
DTEND;TZID=UTC:20211118T200000
DTSTAMP:20260426T013855
CREATED:20211105T144255Z
LAST-MODIFIED:20211105T144255Z
UID:113208-1637262000-1637265600@www.liprc.org
SUMMARY:Oceanside SAFE Coalition Meeting
DESCRIPTION:Please email Alison at info@oceansidesafe.org for log in information.
URL:https://www.liprc.org/event/oceanside-safe-coalition-meeting-12/
CATEGORIES:Nassau
END:VEVENT
BEGIN:VEVENT
DTSTART;TZID=UTC:20211118T143000
DTEND;TZID=UTC:20211118T160000
DTSTAMP:20260426T013855
CREATED:20211105T144725Z
LAST-MODIFIED:20211105T144725Z
UID:113212-1637245800-1637251200@www.liprc.org
SUMMARY:Riverhead Community Coalition for Safe & Drug Free Youth Coalition Meeting
DESCRIPTION:Please contact Kelly Miloski for zoom information at info@riverheadcap.org
URL:https://www.liprc.org/event/riverhead-community-coalition-for-safe-drug-free-youth-coalition-meeting-5/
CATEGORIES:Suffolk
END:VEVENT
BEGIN:VEVENT
DTSTART;TZID=UTC:20211117T160000
DTEND;TZID=UTC:20211117T170000
DTSTAMP:20260426T013855
CREATED:20211105T144528Z
LAST-MODIFIED:20211105T144528Z
UID:113210-1637164800-1637168400@www.liprc.org
SUMMARY:Great South Bay Coalition Meeting
DESCRIPTION:Contact greatsouthbaycoalition@gmail.com for zoom information
URL:https://www.liprc.org/event/great-south-bay-coalition-meeting-27/
CATEGORIES:Suffolk
END:VEVENT
BEGIN:VEVENT
DTSTART;TZID=UTC:20211116T193000
DTEND;TZID=UTC:20211116T210000
DTSTAMP:20260426T013855
CREATED:20211105T144019Z
LAST-MODIFIED:20211105T144019Z
UID:113206-1637091000-1637096400@www.liprc.org
SUMMARY:Five Towns Saves Lives Coalition Meeting
DESCRIPTION:Please email Susan Blauner at susan.blauner@guraljcc.org for Zoom information
URL:https://www.liprc.org/event/five-towns-saves-lives-coalition-meeting-2/
CATEGORIES:Nassau
END:VEVENT
BEGIN:VEVENT
DTSTART;TZID=UTC:20211116T110000
DTEND;TZID=UTC:20211116T120000
DTSTAMP:20260426T013855
CREATED:20211105T143805Z
LAST-MODIFIED:20211105T143817Z
UID:113203-1637060400-1637064000@www.liprc.org
SUMMARY:Roosevelt Prevention Coalition Meeting
DESCRIPTION:Please email Maritza Quintero MQuintero@fcali.org for the link.
URL:https://www.liprc.org/event/roosevelt-prevention-coalition-2/
CATEGORIES:Nassau
END:VEVENT
BEGIN:VEVENT
DTSTART;TZID=UTC:20211112T110000
DTEND;TZID=UTC:20211112T123000
DTSTAMP:20260426T013855
CREATED:20211105T143122Z
LAST-MODIFIED:20211105T143122Z
UID:113197-1636714800-1636720200@www.liprc.org
SUMMARY:Hempstead Prevention Coalition Meeting
DESCRIPTION:Please email Thurston O’Neal at toneal@fcali.org for Zoom information
URL:https://www.liprc.org/event/hempstead-prevention-coalition-meeting-11/
CATEGORIES:Nassau
END:VEVENT
BEGIN:VEVENT
DTSTART;TZID=UTC:20211110T190000
DTEND;TZID=UTC:20211110T203000
DTSTAMP:20260426T013855
CREATED:20211105T143615Z
LAST-MODIFIED:20211105T143615Z
UID:113201-1636570800-1636576200@www.liprc.org
SUMMARY:Northport-East Northport Community Drug & Alcohol Task Force Meeting
DESCRIPTION:Please email Info@NDATF.org for log in information
URL:https://www.liprc.org/event/northport-east-northport-community-drug-alcohol-task-force-meeting-9/
CATEGORIES:Suffolk
END:VEVENT
BEGIN:VEVENT
DTSTART;TZID=UTC:20211110T190000
DTEND;TZID=UTC:20211110T200000
DTSTAMP:20260426T013855
CREATED:20211105T142924Z
LAST-MODIFIED:20211105T142924Z
UID:113195-1636570800-1636574400@www.liprc.org
SUMMARY:Massapequa Takes Action General Meeting
DESCRIPTION:Please email info@mtacoalition.com for log in information
URL:https://www.liprc.org/event/massapequa-takes-action-general-meeting-3/
CATEGORIES:Nassau
END:VEVENT
BEGIN:VEVENT
DTSTART;TZID=UTC:20211110T190000
DTEND;TZID=UTC:20211110T190000
DTSTAMP:20260426T013855
CREATED:20211115T155835Z
LAST-MODIFIED:20211115T155835Z
UID:113879-1636570800-1636570800@www.liprc.org
SUMMARY:Deer Park Prevention Coalition Community Meeting
DESCRIPTION:Click for flyer
URL:https://www.liprc.org/event/deer-park-prevention-coalition-community-meeting/
CATEGORIES:Suffolk
END:VEVENT
BEGIN:VEVENT
DTSTART;TZID=UTC:20211109T100000
DTEND;TZID=UTC:20211109T113000
DTSTAMP:20260426T013855
CREATED:20211105T143427Z
LAST-MODIFIED:20211105T143427Z
UID:113199-1636452000-1636457400@www.liprc.org
SUMMARY:COMPASS UNITY Coalition Meeting
DESCRIPTION:Please email Lynette Murphy for Zoom info at lmurphy@southcountry.org.
URL:https://www.liprc.org/event/compass-unity-coalition-meeting-10/
CATEGORIES:Suffolk
END:VEVENT
BEGIN:VEVENT
DTSTART;TZID=UTC:20211105T100000
DTEND;TZID=UTC:20211105T113000
DTSTAMP:20260426T013855
CREATED:20211105T142514Z
LAST-MODIFIED:20211105T142514Z
UID:113193-1636106400-1636111800@www.liprc.org
SUMMARY:Brentwood Community & SCCC Coalition Meeting
DESCRIPTION:Please email Kathleen Flynn- Bisson for sign in info at flynn@sunysuffolk.edu
URL:https://www.liprc.org/event/brentwood-community-sccc-coalition-meeting/
CATEGORIES:Suffolk
END:VEVENT
BEGIN:VEVENT
DTSTART;TZID=UTC:20211104T140000
DTEND;TZID=UTC:20211104T150000
DTSTAMP:20260426T013855
CREATED:20211105T142247Z
LAST-MODIFIED:20211105T142247Z
UID:113191-1636034400-1636038000@www.liprc.org
SUMMARY:Heroin Prevention Task Force
DESCRIPTION:Please email Rene Fiechter at Rene.Fiechter@nassauda.org for Zoom log in information
URL:https://www.liprc.org/event/heroin-prevention-task-force-7/
CATEGORIES:Nassau
END:VEVENT
BEGIN:VEVENT
DTSTART;TZID=UTC:20211103T143000
DTEND;TZID=UTC:20211103T143000
DTSTAMP:20260426T013855
CREATED:20211105T142057Z
LAST-MODIFIED:20211105T142057Z
UID:113189-1635949800-1635949800@www.liprc.org
SUMMARY:Farmingdale ADAPT Coalition Meeting
DESCRIPTION:Please email Julie Goble for log in details\, at gobleja@farmingdale.edu
URL:https://www.liprc.org/event/farmingdale-adapt-coalition-meeting-4/
CATEGORIES:Nassau,Suffolk
END:VEVENT
BEGIN:VEVENT
DTSTART;TZID=UTC:20211103T110000
DTEND;TZID=UTC:20211103T120000
DTSTAMP:20260426T013855
CREATED:20211026T164228Z
LAST-MODIFIED:20211026T164228Z
UID:112515-1635937200-1635940800@www.liprc.org
SUMMARY:Naloxone Overdose Rescue Training
DESCRIPTION:
URL:https://www.liprc.org/event/naloxone-overdose-rescue-training/2021-11-03/
LOCATION:Online
CATEGORIES:Nassau,Suffolk
END:VEVENT
BEGIN:VEVENT
DTSTART;TZID=UTC:20211029T180000
DTEND;TZID=UTC:20211029T180000
DTSTAMP:20260426T013855
CREATED:20211026T171708Z
LAST-MODIFIED:20211026T171708Z
UID:112523-1635530400-1635530400@www.liprc.org
SUMMARY:Trick or Trunk 2021
DESCRIPTION:ON Friday OCT 29th\, TRICK OR TRUNK IS BACK AND SPOOKIER THAN EVER! \nExperience\, a haunted house\, trick or treating\, Prizes and more\, including Pizza from Mr. G’s\, music by Get your Groove On\, and Popcorn given by our very own Legislator Kevin McCaffrey! \nIt is sure to be a spooktacular event!
URL:https://www.liprc.org/event/trick-or-trunk-2021/
LOCATION:Lindenhurst Gazebo\, 14-16 E Hoffman Ave\, Lindenhurst\, NY\, 11757\, United States
CATEGORIES:Suffolk
GEO:40.6873449;-73.373352
X-APPLE-STRUCTURED-LOCATION;VALUE=URI;X-ADDRESS=Lindenhurst Gazebo 14-16 E Hoffman Ave Lindenhurst NY 11757 United States;X-APPLE-RADIUS=500;X-TITLE=14-16 E Hoffman Ave:geo:-73.373352,40.6873449
END:VEVENT
BEGIN:VEVENT
DTSTART;TZID=UTC:20211028T190000
DTEND;TZID=UTC:20211028T203000
DTSTAMP:20260426T013855
CREATED:20211022T163314Z
LAST-MODIFIED:20211022T163314Z
UID:112250-1635447600-1635453000@www.liprc.org
SUMMARY:Addressing the Effects of Marijuana Legalization on Our Youth (Oceanside)
DESCRIPTION:Addressing the Effects of Marijuana Legalization on Our Youth\nThursday\, Oct. 28th\, 7pm\n\nThe virtual Link will be emailed to all prior to the event. The workshop link will also be posted on the Oceanside School District Website.\n\n\n\n\n\n\n\n\n\n\n\n\n\nOn March 31\, 2021\, the Marijuana Regulation & Taxation Act was signed\, legalizing adult-use cannabis (recreational marijuana) in New York State. \n\nWhere are we now with this legislation?\nWhat ramifications could this have on our youth?\nWhat can a parent do to prevent their child from marijuana usage?\n\nJoin us at this important virtual workshop to get the answers to these questions and information that will help parents foster healthy habits and preventative measures in their home. \n\n\n\n\n\n\n\n\n\n\nRegister here to attend this important workshop \nNote: Advance registration is encouraged but not necessary to attend the virtual workshop. \n\n\n\n\n\n\nDr. Jay Itzkowitz\, Clinical Chair of the Emergency Department at Mount Sinai South Nassau Hospital\, will present an overview of the effects of Marijuana use on youth.\n\n\n\n\n\n\n\n \n\n\n\n\n\n\n\n\n\n\n\nAlison Eriksen: Marijuana Legalization: A Review\nDr. Jay Itzkowitz: Effects of Marijuana Use on Youth\nSara Dowler: A Community Approach to Prevention\nDr. Glickman-Rogers: Proactive Parenting Strategies\nQ & A
URL:https://www.liprc.org/event/addressing-the-effects-of-marijuana-legalization-on-our-youth-oceanside/
LOCATION:Online
CATEGORIES:Nassau,Suffolk
END:VEVENT
BEGIN:VEVENT
DTSTART;TZID=UTC:20211028T170000
DTEND;TZID=UTC:20211028T180000
DTSTAMP:20260426T013855
CREATED:20211026T171341Z
LAST-MODIFIED:20211026T171341Z
UID:112520-1635440400-1635444000@www.liprc.org
SUMMARY:Red Ribbon Week Commemoration (Babylon)
DESCRIPTION:
URL:https://www.liprc.org/event/red-ribbon-week-commemoration-babylon/
LOCATION:Town of Babylon Town Hall\, 200 East Sunrise Highway\, Lindenhurst\, NY\, 11757\, United States
CATEGORIES:Suffolk
GEO:40.7047732;-73.3751627
X-APPLE-STRUCTURED-LOCATION;VALUE=URI;X-ADDRESS=Town of Babylon Town Hall 200 East Sunrise Highway Lindenhurst NY 11757 United States;X-APPLE-RADIUS=500;X-TITLE=200 East Sunrise Highway:geo:-73.3751627,40.7047732
END:VEVENT
BEGIN:VEVENT
DTSTART;TZID=UTC:20211026T080000
DTEND;TZID=UTC:20211026T123000
DTSTAMP:20260426T013855
CREATED:20211026T172452Z
LAST-MODIFIED:20211026T172452Z
UID:112527-1635235200-1635251400@www.liprc.org
SUMMARY:Color Run (Northport)
DESCRIPTION:
URL:https://www.liprc.org/event/color-run-northport/
LOCATION:Fifth Ave Elementary School\, 1157 5th Ave\, East Northport\, 11731\, United States
GEO:40.8761651;-73.3053991
X-APPLE-STRUCTURED-LOCATION;VALUE=URI;X-ADDRESS=Fifth Ave Elementary School 1157 5th Ave East Northport 11731 United States;X-APPLE-RADIUS=500;X-TITLE=1157 5th Ave:geo:-73.3053991,40.8761651
END:VEVENT
BEGIN:VEVENT
DTSTART;TZID=UTC:20211024T110000
DTEND;TZID=UTC:20211024T140000
DTSTAMP:20260426T013855
CREATED:20211014T001413Z
LAST-MODIFIED:20211014T001413Z
UID:111662-1635073200-1635084000@www.liprc.org
SUMMARY:Drug Take Back Day (Woodmere)
DESCRIPTION:
URL:https://www.liprc.org/event/drug-take-back-day-woodmere/
LOCATION:Hatzalah of The Rockaways & Nassau County\, 724 West Broadway\, Woodmere\, NY\, 11598\, United States
CATEGORIES:Nassau
END:VEVENT
BEGIN:VEVENT
DTSTART;TZID=UTC:20210924T200000
DTEND;TZID=UTC:20210924T220000
DTSTAMP:20260426T013855
CREATED:20210819T191605Z
LAST-MODIFIED:20210819T191605Z
UID:107473-1632513600-1632520800@www.liprc.org
SUMMARY:Rock N Recover XIII
DESCRIPTION:
URL:https://www.liprc.org/event/rock-n-recover-xiii/
LOCATION:Hybrid- Online and at THRIVE Locations
CATEGORIES:Nassau,Suffolk
END:VEVENT
BEGIN:VEVENT
DTSTART;TZID=UTC:20210831T200000
DTEND;TZID=UTC:20210831T213000
DTSTAMP:20260426T013855
CREATED:20210820T170036Z
LAST-MODIFIED:20210820T170036Z
UID:107554-1630440000-1630445400@www.liprc.org
SUMMARY:Overdose Awareness Day Vigil (Amityville)
DESCRIPTION:Amityville will hold their International Overdose Awareness vigil on the steps of Amityville Village Hall on Tuesday the 31st at 8pm.  They are distributing candles and have music planned\, and have also bought purple light bulbs to provide for residents. \nhttps://amityville.com/all-are-invited-to-a-candlelight-vigil-for-overdose-awareness-day/
URL:https://www.liprc.org/event/overdose-awareness-day-vigil-amityville/
LOCATION:Amityville Village Hall\, 21 Ireland Pl\, Amityville\, NY\, 11701\, United States
CATEGORIES:Nassau,Suffolk
END:VEVENT
BEGIN:VEVENT
DTSTART;TZID=UTC:20210831T190000
DTEND;TZID=UTC:20210831T210000
DTSTAMP:20260426T013855
CREATED:20210819T212646Z
LAST-MODIFIED:20210819T212646Z
UID:107490-1630436400-1630443600@www.liprc.org
SUMMARY:Overdose Awareness Day Event and Overdose Prevention Training (Lindenhurst)
DESCRIPTION:
URL:https://www.liprc.org/event/overdose-awareness-day-event-and-overdose-prevention-training-lindenhurst/
LOCATION:Town of Babylon Town Hall\, 200 East Sunrise Highway\, Lindenhurst\, NY\, 11757\, United States
CATEGORIES:Nassau,Suffolk
GEO:40.7047732;-73.3751627
X-APPLE-STRUCTURED-LOCATION;VALUE=URI;X-ADDRESS=Town of Babylon Town Hall 200 East Sunrise Highway Lindenhurst NY 11757 United States;X-APPLE-RADIUS=500;X-TITLE=200 East Sunrise Highway:geo:-73.3751627,40.7047732
END:VEVENT
BEGIN:VEVENT
DTSTART;TZID=UTC:20210831T190000
DTEND;TZID=UTC:20210831T210000
DTSTAMP:20260426T013855
CREATED:20210819T212114Z
LAST-MODIFIED:20210819T212114Z
UID:107485-1630436400-1630443600@www.liprc.org
SUMMARY:Overdose Awareness Day Event (Northport)
DESCRIPTION:
URL:https://www.liprc.org/event/overdose-awareness-day-event-northport/
LOCATION:Northport Village Park\, 63 Bayview Ave\, Northport\, NY\, 11768\, United States
CATEGORIES:Suffolk
END:VEVENT
BEGIN:VEVENT
DTSTART;TZID=UTC:20210831T180000
DTEND;TZID=UTC:20210831T200000
DTSTAMP:20260426T013855
CREATED:20210820T171909Z
LAST-MODIFIED:20210820T171909Z
UID:107557-1630432800-1630440000@www.liprc.org
SUMMARY:Overdose Awareness Rally (Deer Park/Wyandanch)
DESCRIPTION:
URL:https://www.liprc.org/event/overdose-awareness-rally-deer-park-wyandanch/
LOCATION:Geiger Park\, Grand Blvd\, Deer Park\, NY\, 11729\, United States
CATEGORIES:Nassau,Suffolk
END:VEVENT
BEGIN:VEVENT
DTSTART;TZID=UTC:20210831T170000
DTEND;TZID=UTC:20210831T200000
DTSTAMP:20260426T013855
CREATED:20210816T154416Z
LAST-MODIFIED:20210824T144431Z
UID:107248-1630429200-1630440000@www.liprc.org
SUMMARY:Drive-Up Medication Event Lindy Cares
DESCRIPTION: 
URL:https://www.liprc.org/event/drive-up-medication-event-lindy-cares/
CATEGORIES:Nassau,Suffolk
END:VEVENT
END:VCALENDAR