BEGIN:VCALENDAR
VERSION:2.0
PRODID:-//PRC - ECPv6.15.13//NONSGML v1.0//EN
CALSCALE:GREGORIAN
METHOD:PUBLISH
X-ORIGINAL-URL:https://www.liprc.org
X-WR-CALDESC:Events for PRC
REFRESH-INTERVAL;VALUE=DURATION:PT1H
X-Robots-Tag:noindex
X-PUBLISHED-TTL:PT1H
BEGIN:VTIMEZONE
TZID:UTC
BEGIN:STANDARD
TZOFFSETFROM:+0000
TZOFFSETTO:+0000
TZNAME:UTC
DTSTART:20200101T000000
END:STANDARD
END:VTIMEZONE
BEGIN:VEVENT
DTSTART;TZID=UTC:20211028T190000
DTEND;TZID=UTC:20211028T203000
DTSTAMP:20260426T041555
CREATED:20211022T163314Z
LAST-MODIFIED:20211022T163314Z
UID:112250-1635447600-1635453000@www.liprc.org
SUMMARY:Addressing the Effects of Marijuana Legalization on Our Youth (Oceanside)
DESCRIPTION:Addressing the Effects of Marijuana Legalization on Our Youth\nThursday\, Oct. 28th\, 7pm\n\nThe virtual Link will be emailed to all prior to the event. The workshop link will also be posted on the Oceanside School District Website.\n\n\n\n\n\n\n\n\n\n\n\n\n\nOn March 31\, 2021\, the Marijuana Regulation & Taxation Act was signed\, legalizing adult-use cannabis (recreational marijuana) in New York State. \n\nWhere are we now with this legislation?\nWhat ramifications could this have on our youth?\nWhat can a parent do to prevent their child from marijuana usage?\n\nJoin us at this important virtual workshop to get the answers to these questions and information that will help parents foster healthy habits and preventative measures in their home. \n\n\n\n\n\n\n\n\n\n\nRegister here to attend this important workshop \nNote: Advance registration is encouraged but not necessary to attend the virtual workshop. \n\n\n\n\n\n\nDr. Jay Itzkowitz\, Clinical Chair of the Emergency Department at Mount Sinai South Nassau Hospital\, will present an overview of the effects of Marijuana use on youth.\n\n\n\n\n\n\n\n \n\n\n\n\n\n\n\n\n\n\n\nAlison Eriksen: Marijuana Legalization: A Review\nDr. Jay Itzkowitz: Effects of Marijuana Use on Youth\nSara Dowler: A Community Approach to Prevention\nDr. Glickman-Rogers: Proactive Parenting Strategies\nQ & A
URL:https://www.liprc.org/event/addressing-the-effects-of-marijuana-legalization-on-our-youth-oceanside/
LOCATION:Online
CATEGORIES:Nassau,Suffolk
END:VEVENT
BEGIN:VEVENT
DTSTART;TZID=UTC:20211028T170000
DTEND;TZID=UTC:20211028T180000
DTSTAMP:20260426T041555
CREATED:20211026T171341Z
LAST-MODIFIED:20211026T171341Z
UID:112520-1635440400-1635444000@www.liprc.org
SUMMARY:Red Ribbon Week Commemoration (Babylon)
DESCRIPTION:
URL:https://www.liprc.org/event/red-ribbon-week-commemoration-babylon/
LOCATION:Town of Babylon Town Hall\, 200 East Sunrise Highway\, Lindenhurst\, NY\, 11757\, United States
CATEGORIES:Suffolk
GEO:40.7047732;-73.3751627
X-APPLE-STRUCTURED-LOCATION;VALUE=URI;X-ADDRESS=Town of Babylon Town Hall 200 East Sunrise Highway Lindenhurst NY 11757 United States;X-APPLE-RADIUS=500;X-TITLE=200 East Sunrise Highway:geo:-73.3751627,40.7047732
END:VEVENT
BEGIN:VEVENT
DTSTART;TZID=UTC:20211026T080000
DTEND;TZID=UTC:20211026T123000
DTSTAMP:20260426T041555
CREATED:20211026T172452Z
LAST-MODIFIED:20211026T172452Z
UID:112527-1635235200-1635251400@www.liprc.org
SUMMARY:Color Run (Northport)
DESCRIPTION:
URL:https://www.liprc.org/event/color-run-northport/
LOCATION:Fifth Ave Elementary School\, 1157 5th Ave\, East Northport\, 11731\, United States
GEO:40.8761651;-73.3053991
X-APPLE-STRUCTURED-LOCATION;VALUE=URI;X-ADDRESS=Fifth Ave Elementary School 1157 5th Ave East Northport 11731 United States;X-APPLE-RADIUS=500;X-TITLE=1157 5th Ave:geo:-73.3053991,40.8761651
END:VEVENT
BEGIN:VEVENT
DTSTART;TZID=UTC:20211024T110000
DTEND;TZID=UTC:20211024T140000
DTSTAMP:20260426T041555
CREATED:20211014T001413Z
LAST-MODIFIED:20211014T001413Z
UID:111662-1635073200-1635084000@www.liprc.org
SUMMARY:Drug Take Back Day (Woodmere)
DESCRIPTION:
URL:https://www.liprc.org/event/drug-take-back-day-woodmere/
LOCATION:Hatzalah of The Rockaways & Nassau County\, 724 West Broadway\, Woodmere\, NY\, 11598\, United States
CATEGORIES:Nassau
END:VEVENT
BEGIN:VEVENT
DTSTART;TZID=UTC:20210924T200000
DTEND;TZID=UTC:20210924T220000
DTSTAMP:20260426T041555
CREATED:20210819T191605Z
LAST-MODIFIED:20210819T191605Z
UID:107473-1632513600-1632520800@www.liprc.org
SUMMARY:Rock N Recover XIII
DESCRIPTION:
URL:https://www.liprc.org/event/rock-n-recover-xiii/
LOCATION:Hybrid- Online and at THRIVE Locations
CATEGORIES:Nassau,Suffolk
END:VEVENT
BEGIN:VEVENT
DTSTART;TZID=UTC:20210831T200000
DTEND;TZID=UTC:20210831T213000
DTSTAMP:20260426T041555
CREATED:20210820T170036Z
LAST-MODIFIED:20210820T170036Z
UID:107554-1630440000-1630445400@www.liprc.org
SUMMARY:Overdose Awareness Day Vigil (Amityville)
DESCRIPTION:Amityville will hold their International Overdose Awareness vigil on the steps of Amityville Village Hall on Tuesday the 31st at 8pm.  They are distributing candles and have music planned\, and have also bought purple light bulbs to provide for residents. \nhttps://amityville.com/all-are-invited-to-a-candlelight-vigil-for-overdose-awareness-day/
URL:https://www.liprc.org/event/overdose-awareness-day-vigil-amityville/
LOCATION:Amityville Village Hall\, 21 Ireland Pl\, Amityville\, NY\, 11701\, United States
CATEGORIES:Nassau,Suffolk
END:VEVENT
BEGIN:VEVENT
DTSTART;TZID=UTC:20210831T190000
DTEND;TZID=UTC:20210831T210000
DTSTAMP:20260426T041555
CREATED:20210819T212646Z
LAST-MODIFIED:20210819T212646Z
UID:107490-1630436400-1630443600@www.liprc.org
SUMMARY:Overdose Awareness Day Event and Overdose Prevention Training (Lindenhurst)
DESCRIPTION:
URL:https://www.liprc.org/event/overdose-awareness-day-event-and-overdose-prevention-training-lindenhurst/
LOCATION:Town of Babylon Town Hall\, 200 East Sunrise Highway\, Lindenhurst\, NY\, 11757\, United States
CATEGORIES:Nassau,Suffolk
GEO:40.7047732;-73.3751627
X-APPLE-STRUCTURED-LOCATION;VALUE=URI;X-ADDRESS=Town of Babylon Town Hall 200 East Sunrise Highway Lindenhurst NY 11757 United States;X-APPLE-RADIUS=500;X-TITLE=200 East Sunrise Highway:geo:-73.3751627,40.7047732
END:VEVENT
BEGIN:VEVENT
DTSTART;TZID=UTC:20210831T190000
DTEND;TZID=UTC:20210831T210000
DTSTAMP:20260426T041555
CREATED:20210819T212114Z
LAST-MODIFIED:20210819T212114Z
UID:107485-1630436400-1630443600@www.liprc.org
SUMMARY:Overdose Awareness Day Event (Northport)
DESCRIPTION:
URL:https://www.liprc.org/event/overdose-awareness-day-event-northport/
LOCATION:Northport Village Park\, 63 Bayview Ave\, Northport\, NY\, 11768\, United States
CATEGORIES:Suffolk
END:VEVENT
BEGIN:VEVENT
DTSTART;TZID=UTC:20210831T180000
DTEND;TZID=UTC:20210831T200000
DTSTAMP:20260426T041555
CREATED:20210820T171909Z
LAST-MODIFIED:20210820T171909Z
UID:107557-1630432800-1630440000@www.liprc.org
SUMMARY:Overdose Awareness Rally (Deer Park/Wyandanch)
DESCRIPTION:
URL:https://www.liprc.org/event/overdose-awareness-rally-deer-park-wyandanch/
LOCATION:Geiger Park\, Grand Blvd\, Deer Park\, NY\, 11729\, United States
CATEGORIES:Nassau,Suffolk
END:VEVENT
BEGIN:VEVENT
DTSTART;TZID=UTC:20210831T170000
DTEND;TZID=UTC:20210831T200000
DTSTAMP:20260426T041555
CREATED:20210816T154416Z
LAST-MODIFIED:20210824T144431Z
UID:107248-1630429200-1630440000@www.liprc.org
SUMMARY:Drive-Up Medication Event Lindy Cares
DESCRIPTION: 
URL:https://www.liprc.org/event/drive-up-medication-event-lindy-cares/
CATEGORIES:Nassau,Suffolk
END:VEVENT
BEGIN:VEVENT
DTSTART;TZID=UTC:20210831T150000
DTEND;TZID=UTC:20210831T170000
DTSTAMP:20260426T041555
CREATED:20210803T204122Z
LAST-MODIFIED:20210803T204122Z
UID:106394-1630422000-1630429200@www.liprc.org
SUMMARY:Webinar: Advocating for Advocacy in Prevention
DESCRIPTION:Advocacy is an important component of substance misuse prevention. Advocacy is a powerful tool that helps to educate and inform policymakers yet is often viewed with some apprehension due to fears of lobbying. This webinar will address advocacy vs. lobbying and define tangible examples of prevention advocacy to support public health and prevention efforts. Specific strategies will be discussed as examples of what prevention practitioners can and should do to advocate for substance misuse prevention in their communities and states. \n  \nBy the end of the webinar\, participants will: \n  \nBe able to identify the differences between lobbying and advocacy as it pertains to substance misuse prevention. \nBe able to identify data sources that can support advocacy efforts in public health. \nBe able to identify their own priority areas for prevention advocacy. \nhttps://pttcnetwork.org/centers/pacific-southwest-pttc/event/webinar-advocating-advocacy-prevention
URL:https://www.liprc.org/event/webinar-advocating-for-advocacy-in-prevention/
LOCATION:Online
CATEGORIES:Nassau,Suffolk
END:VEVENT
BEGIN:VEVENT
DTSTART;TZID=UTC:20210831T123000
DTEND;TZID=UTC:20210831T133000
DTSTAMP:20260426T041555
CREATED:20210803T204023Z
LAST-MODIFIED:20210803T204023Z
UID:106392-1630413000-1630416600@www.liprc.org
SUMMARY:Webinar: Traumatic Brain Injury & SUD: Implications of Stimulants on Traumatic Brain Injury
DESCRIPTION:This webinar will review the pharmacological characteristics of stimulant medications and also medications that provide a stimulant effect and review which medications are most effective in enhancing natural recovery and improving fatigue and cognitive functioning in TBI survivors. A discussion regarding the similarity of ADHD symptoms to TBI symptoms will be presented. Frontal lobe and temporal lobe syndromes will be described\, and specific medications will be reviewed that are likely to have a positive impact on the TBI survivor.  Case studies will also be presented exemplifying the complexity of brain injury\, cognitive impairment and effective use of medications. \nhttps://attcnetwork.org/centers/mid-america-attc/event/traumatic-brain-injury-sud-implications-stimulants-traumatic-brain \n 
URL:https://www.liprc.org/event/webinar-traumatic-brain-injury-sud-implications-of-stimulants-on-traumatic-brain-injury/
LOCATION:Online
CATEGORIES:Nassau,Suffolk
END:VEVENT
BEGIN:VEVENT
DTSTART;TZID=UTC:20210831T103000
DTEND;TZID=UTC:20210831T140000
DTSTAMP:20260426T041555
CREATED:20210819T191137Z
LAST-MODIFIED:20210819T191137Z
UID:107470-1630405800-1630418400@www.liprc.org
SUMMARY:Overdose Awareness Event (THRIVE-Hauppauge)
DESCRIPTION:
URL:https://www.liprc.org/event/overdose-awareness-event-thrive-hauppauge/
LOCATION:Thrive Recovery Community Center\, 1324 Motor Parkway\, Hauppauge\, NY
CATEGORIES:Nassau,Suffolk
END:VEVENT
BEGIN:VEVENT
DTSTART;TZID=UTC:20210829T110000
DTEND;TZID=UTC:20210829T130000
DTSTAMP:20260426T041555
CREATED:20210819T190819Z
LAST-MODIFIED:20210819T212228Z
UID:107466-1630234800-1630242000@www.liprc.org
SUMMARY:Overdose Awareness Day Event (Massapequa Park)
DESCRIPTION:
URL:https://www.liprc.org/event/overdose-awareness-day-massapequa-park/
LOCATION:Brady Park\, 1000 Lake Shore Drive\, Massapequa Park\, NY\, 11762\, United States
CATEGORIES:Nassau
END:VEVENT
BEGIN:VEVENT
DTSTART;TZID=UTC:20210828T110000
DTEND;TZID=UTC:20210828T130000
DTSTAMP:20260426T041555
CREATED:20210820T172126Z
LAST-MODIFIED:20210820T172126Z
UID:107563-1630148400-1630155600@www.liprc.org
SUMMARY:Walk for Overdose Awareness (Deer Park)
DESCRIPTION:
URL:https://www.liprc.org/event/walk-for-overdose-awareness-deer-park/
LOCATION:Deer Park High School\, 2 Falcon Place\, Deer Park\, NY\, 11729\, United States
CATEGORIES:Nassau,Suffolk
END:VEVENT
BEGIN:VEVENT
DTSTART;TZID=UTC:20210828T090000
DTEND;TZID=UTC:20210828T110000
DTSTAMP:20260426T041555
CREATED:20210811T231908Z
LAST-MODIFIED:20210811T231908Z
UID:106946-1630141200-1630148400@www.liprc.org
SUMMARY:Keep the Preserve Pristine- Massapequa
DESCRIPTION:Click link for flyer
URL:https://www.liprc.org/event/keep-the-preserve-pristine-massapequa/
CATEGORIES:Nassau
END:VEVENT
BEGIN:VEVENT
DTSTART;TZID=UTC:20210824T140000
DTEND;TZID=UTC:20210824T170000
DTSTAMP:20260426T041555
CREATED:20210824T201858Z
LAST-MODIFIED:20210824T201858Z
UID:107848-1629813600-1629824400@www.liprc.org
SUMMARY:Islip Goes Purple Community Distribution Sites
DESCRIPTION:
URL:https://www.liprc.org/event/islip-goes-purple-community-distribution-sites/2021-08-24/
LOCATION:See Flyer
CATEGORIES:Suffolk
END:VEVENT
BEGIN:VEVENT
DTSTART;TZID=UTC:20210824T140000
DTEND;TZID=UTC:20210824T163000
DTSTAMP:20260426T041555
CREATED:20210803T203921Z
LAST-MODIFIED:20210803T203921Z
UID:106390-1629813600-1629822600@www.liprc.org
SUMMARY:Webinar: Treating StimUD: Doing What Works
DESCRIPTION:The Mid America Addiction Technology Transfer Center is partnering with the Missouri Institute of Mental Health\, the Opioid Response Network\, and Saint Louis University to develop a new series in response to the rising needs of serving clients with Stimulant Use Disorder (StimUD). \n  \nThe purpose of the Treating Stimulant Use Disorder Workshop Series is to provide education on treating clients with StimUD. There will be 4 virtual workshops that are 1.5 hours each that will include presentations from national experts in the variety of ways to address assisting people diagnosed with StimUD into the recovery process. This session is the 2nd session in the series. \n  \nEmail Erika Holliday at hollidaye@umkc.edu for any questions. \nhttps://attcnetwork.org/centers/mid-america-attc/event/treating-stimud-doing-what-works \n 
URL:https://www.liprc.org/event/webinar-treating-stimud-doing-what-works/
LOCATION:Online
CATEGORIES:Nassau,Suffolk
END:VEVENT
BEGIN:VEVENT
DTSTART;TZID=UTC:20210819T190000
DTEND;TZID=UTC:20210819T203000
DTSTAMP:20260426T041555
CREATED:20210803T202302Z
LAST-MODIFIED:20210803T202302Z
UID:106370-1629399600-1629405000@www.liprc.org
SUMMARY:Oceanside SAFE Coalition Meeting
DESCRIPTION:Please email Alison at info@oceansidesafe.org for log in information
URL:https://www.liprc.org/event/oceanside-safe-coalition-meeting-10/
LOCATION:Online
CATEGORIES:Nassau
END:VEVENT
BEGIN:VEVENT
DTSTART;TZID=UTC:20210819T110000
DTEND;TZID=UTC:20210819T123000
DTSTAMP:20260426T041555
CREATED:20210803T203815Z
LAST-MODIFIED:20210803T203815Z
UID:106388-1629370800-1629376200@www.liprc.org
SUMMARY:Webinar: The Infinite Game Workshop
DESCRIPTION:In prevention\, there is no such thing as winning and losing. In an infinite game there is only ahead and behind. Of course\, every organization has finite short-term goals\, metrics and wins that show us that we are making progress\, but to what end? In order to lead in an infinite game\, we must practice these five areas: Advance a Just Cause\, Build Trusting Teams\, Study Worthy Rivals\, Prepare for Existential Flexibility and Demonstrate the Courage to Lead. These sessions will break down and explore each of the five practices of leading in an infinite game. \n  \nKey Insights \n  \n\nExplore the characteristics of a Just Cause and relate it to your organization\nExamine the practices that are building trust and those that may be breaking trust\, and how to maintain and rebuild trust\nDefine and study your Worthy Rivals to identify areas of strength and areas to improve\nGain a deeper understanding of Existential Flexibility\, explore case studies and evaluate your current capacity for Existential Flexibility\nLearn how to build stronger relationships\, which are the basis for the The Courage to Lead\n\nhttps://pttcnetwork.org/centers/mid-america-pttc/event/infinite-game-workshop
URL:https://www.liprc.org/event/webinar-the-infinite-game-workshop/
LOCATION:Online
CATEGORIES:Nassau,Suffolk
END:VEVENT
BEGIN:VEVENT
DTSTART;TZID=UTC:20210818T193000
DTEND;TZID=UTC:20210818T193000
DTSTAMP:20260426T041555
CREATED:20210810T161258Z
LAST-MODIFIED:20210810T161258Z
UID:106860-1629315000-1629315000@www.liprc.org
SUMMARY:Five Towns Saves Lives Coalition Meeting
DESCRIPTION:Five Towns Saves Lives Coalition Meeting 7:30 PM \nPlease email Susan Blauner at susan.blauner@guraljcc.org for Zoom information
URL:https://www.liprc.org/event/five-towns-saves-lives-coalition-meeting/
CATEGORIES:Nassau
END:VEVENT
BEGIN:VEVENT
DTSTART;TZID=UTC:20210818T180000
DTEND;TZID=UTC:20210818T200000
DTSTAMP:20260426T041555
CREATED:20210819T195701Z
LAST-MODIFIED:20210819T195701Z
UID:107479-1629309600-1629316800@www.liprc.org
SUMMARY:Bingo on the Beach
DESCRIPTION:
URL:https://www.liprc.org/event/bingo-on-the-beach/
LOCATION:Corey Beach\, 1 Corey Ave\, Blue Point\, NY\, 11715
CATEGORIES:Suffolk
GEO:40.7462087;-73.0266568
X-APPLE-STRUCTURED-LOCATION;VALUE=URI;X-ADDRESS=Corey Beach 1 Corey Ave Blue Point NY 11715;X-APPLE-RADIUS=500;X-TITLE=1 Corey Ave:geo:-73.0266568,40.7462087
END:VEVENT
BEGIN:VEVENT
DTSTART;TZID=UTC:20210817T130000
DTEND;TZID=UTC:20210817T140000
DTSTAMP:20260426T041555
CREATED:20210803T203705Z
LAST-MODIFIED:20210803T203705Z
UID:106386-1629205200-1629208800@www.liprc.org
SUMMARY:Webinar: Harm Reduction for Stimulant Use Disorder
DESCRIPTION:The Mid America Addiction Technology Transfer Center is partnering with the Missouri Institute of Mental Health\, the Opioid Response Network\, and Saint Louis University to develop a new series in response to the rising needs of serving clients with Stimulant Use Disorder (StimUD). \n  \nThe purpose of the Treating Stimulant Use Disorder Workshop Series is to provide education on treating clients with StimUD. There will be 4 virtual workshops that are 1.5 hours each that will include presentations from national experts in the variety of ways to address assisting people diagnosed with StimUD into the recovery process. This session is the 2nd session in the series. \n  \nEmail Erika Holliday at hollidaye@umkc.edu for any questions. \nhttps://attcnetwork.org/centers/mid-america-attc/event/harm-reduction-stimulant-use-disorder
URL:https://www.liprc.org/event/webinar-harm-reduction-for-stimulant-use-disorder/
LOCATION:Online
CATEGORIES:Nassau,Suffolk
END:VEVENT
BEGIN:VEVENT
DTSTART;TZID=UTC:20210816T120000
DTEND;TZID=UTC:20210816T133000
DTSTAMP:20260426T041555
CREATED:20210803T203539Z
LAST-MODIFIED:20210803T203539Z
UID:106384-1629115200-1629120600@www.liprc.org
SUMMARY:Webinar: Social Norms Webinar 2: Introduction to Positive Community Norms
DESCRIPTION:Learn the essential seven steps for planning\, building\, and evaluating a Positive Community Norms intervention. Participants will be provided seven 10-minute videos to watch as “homework” before attending this 90-minute interactive discussion that will provide plenty of time for real time questions and answers. Participants will: \n  \n\nIdentify the Seven Steps of the Montana Model of Positive Community Norms Communication\nDiscuss how misperceptions influence attitudes and behaviors\nExplain how the Positive Community Norms approach corrects misperceptions to impact behavior and increase health\n\nhttps://pttcnetwork.org/centers/mountain-plains-pttc/event/social-norms-webinar-2-introduction-positive-community-norms
URL:https://www.liprc.org/event/webinar-social-norms-webinar-2-introduction-to-positive-community-norms/
LOCATION:Online
CATEGORIES:Nassau,Suffolk
END:VEVENT
BEGIN:VEVENT
DTSTART;TZID=UTC:20210816T093000
DTEND;TZID=UTC:20210816T113000
DTSTAMP:20260426T041555
CREATED:20210803T201537Z
LAST-MODIFIED:20210803T201537Z
UID:106368-1629106200-1629113400@www.liprc.org
SUMMARY:Communities of Solution
DESCRIPTION:Please email Vikki Romeo <vromeo@centralnassau.org> for details on attending.
URL:https://www.liprc.org/event/communities-of-solution-8/
LOCATION:Online
END:VEVENT
BEGIN:VEVENT
DTSTART;TZID=UTC:20210813T110000
DTEND;TZID=UTC:20210813T130000
DTSTAMP:20260426T041555
CREATED:20210803T201315Z
LAST-MODIFIED:20210803T201315Z
UID:106364-1628852400-1628859600@www.liprc.org
SUMMARY:Hempstead Prevention Coalition Youth Summit Celebration
DESCRIPTION:
URL:https://www.liprc.org/event/hempstead-prevention-coalition-youth-summit-celebration/
LOCATION:Julius & Joysetta PearseAfrican American Museum of Nassau\, 110 N. Franklin St.\, Hempstead\, NY\, 11550\, United States
CATEGORIES:Nassau
END:VEVENT
BEGIN:VEVENT
DTSTART;TZID=UTC:20210811T190000
DTEND;TZID=UTC:20210811T203000
DTSTAMP:20260426T041555
CREATED:20210803T200217Z
LAST-MODIFIED:20210804T161550Z
UID:106362-1628708400-1628713800@www.liprc.org
SUMMARY:Massapequa Takes Action General Meeting
DESCRIPTION:Please email info@mtacoalition.com for log in information
URL:https://www.liprc.org/event/massapequa-takes-action-general-meeting/
LOCATION:Online
CATEGORIES:Nassau
END:VEVENT
BEGIN:VEVENT
DTSTART;TZID=UTC:20210811T130000
DTEND;TZID=UTC:20210811T170000
DTSTAMP:20260426T041555
CREATED:20210803T203358Z
LAST-MODIFIED:20210803T203358Z
UID:106382-1628686800-1628701200@www.liprc.org
SUMMARY:Webinar: Cannabis Use and Risk for Mental Illness
DESCRIPTION:Please join MHTTC for their monthly webinar series. \nThey will be featuring special guest speaker: Ken Winters\, PhD \nhttps://mhttcnetwork.org/centers/national-american-indian-and-alaska-native-mhttc/event/cannabis-use-and-risk-mental-illness
URL:https://www.liprc.org/event/webinar-cannabis-use-and-risk-for-mental-illness/
LOCATION:Online
CATEGORIES:Nassau,Suffolk
END:VEVENT
BEGIN:VEVENT
DTSTART;TZID=UTC:20210810T140000
DTEND;TZID=UTC:20210810T160000
DTSTAMP:20260426T041555
CREATED:20210803T203229Z
LAST-MODIFIED:20210803T203229Z
UID:106380-1628604000-1628611200@www.liprc.org
SUMMARY:Webinar: Parents Can't Stop What They Don't Know: Teen Alcohol Abuse Prevention
DESCRIPTION:Live – Parents Can’t Stop What They Don’t Know: Teen Alcohol Abuse Prevention\nTuesday\, August 10\, 2021 \n2:00 p.m. ET \nWith Tara McGuire \n“Parents Can’t Stop What They Don’t Know” promises to be a highly engaging session that will feature cutting-edge information about “new” developments and product trends in the world of underage drinking.  This interactive session features hot topics like how Alcopops are marketed to youth using cool names like Twisted Tea or Rick’s Spiked Mandarin Lime\, bright colors\, and added sweeteners; new products on the market; tips to prepare you to identify Alcopops from similar non-alcoholic drinks kids like; and federal and state action to keep these dangerous products out of the hands of youth. \nLearning objectives \n\nHow alcoholic beverages appeal and are marketed to youth.\nHow adults can identify them from non-alcoholic beverages and keep themselves informed of what’s on the market.\nHow you can get involved & keep these dangerous products out of youth’s hands.\n\n\n\n\n\n\n\n\n\n\n\n\n\n  \n\n\n\n\n\n\n\nRegister Now
URL:https://www.liprc.org/event/webinar-parents-cant-stop-what-they-dont-know-teen-alcohol-abuse-prevention/
LOCATION:Online
CATEGORIES:Nassau,Suffolk
END:VEVENT
BEGIN:VEVENT
DTSTART;TZID=UTC:20210810T100000
DTEND;TZID=UTC:20210810T110000
DTSTAMP:20260426T041555
CREATED:20210803T194521Z
LAST-MODIFIED:20210803T194521Z
UID:106358-1628589600-1628593200@www.liprc.org
SUMMARY:COMPASS Unity Coalition Meeting
DESCRIPTION:For Zoom information please contact Lacey Donlon at ldonlon@southcountry.org 
URL:https://www.liprc.org/event/compass-unity-coalition-meeting-7/
LOCATION:Online
CATEGORIES:Suffolk
END:VEVENT
END:VCALENDAR